Workbook

Sheet Home
C2: सेवानिवत्तीचा प्रस्ताव तयार करण्यासाठीची माहिती https://gramvikaseseva.com
C4: 1 | D4: तपासणी यादी -Check list | F4: 17 | G4: भविष्य निर्वाह निधी
C5: 2 | D5: Pension Form | F5: 18 | G5: रजा रोखिकरण अर्ज
C6: 3 | D6: Non Drawal Letter ना देय प्रमाणपत्र | F6: 19 | G6: BTR26 Leave Incashment Bill
C7: 4 | D7: नमुना -- ७ फॉर्म | F7: 20 | G7: Pass Leave Incashment Bill
C8: 5 | D8: नमुना -- ५ फॉर्म | F8: 21 | G8: Inner Leave Incashment Bill
C9: 6 | D9: नमुना -- ३ फॉर्म कुटुंबाचा तपशील | F9: 22 | G9: Certificate Leave Incashment Bill
C10: 7 | D10: नमुना -- ६ फॉर्म निवृत्तीवेतन व उपदान निर्धारणासाठी | F10: 23 | G10: बदली प्रवास भत्ता
C11: 8 | D11: नमुना बी निव्रुतीवेतनाच्या काही भागाच्या अंश:राशीकरण नमुना | F11: 24 | G11: नमुना २७ प्रवास भत्ता देयक
C12: 9 | D12: नमुना १ मृत्यू निसेवानिवृत्ती उपदान: नामनिर्देशन | F12: 25 | G12: राज्य शासकीय गट विमा योजना प्रस्ताव
C13: 10 | D13: अंतिम वेतन प्रमाणपत्र | F13: 26 | G13: Formuala Use In This Worksheet
C14: 11 | D14: फॉर्म ४२ | F14: 27 | G14: Formulas (सेवानिव्रुती )
C15: 12 | D15: निवृत्तीवेतन परिगणना (प्रपत्र ३) | F15: 28 | G15: Output मिळणारे सेवानिवृती वेतन
... C17: 14 | D17: PENSION PAYMENT ORDER Disburse's Porition | F17: 30 | G17: All Information Pay & PENS
A18: Created By: https://gramvikaseseva.com | C18: 15 | D18: Reverse of Disburse’s Portion | F18: 31 | G18: महागाई भत्ता दर DA Rates (ह्या शीट मध्ये बदल करून घ्यावेत
C19: 16 | D19: PPO Book | F19: 32
A27: शासना मार्फत वेळोवेळी महागाई भत्ता जाहिर झालेवर DA Rates ह्या शीत मधे बदल करावे.

Sheet Output
B2: सेवानिवृत्ती नंतरचे लाभ
B3: नांव | D3: ='Pension form'!C2 -> सोमनाथ चटर्जी
B4: जन्मतारीख | D4: ='Pension form'!C6 -> 29000
B5: सेवेत रुजू दिनांक | D5: ='Pension form'!C7 -> 38047
B6: सेवानिवृत्त दिनांक | D6: ='Pension form'!C8 -> 50191
B7: एकूण सेवा निवृत्तीसाठी | D7: ='Pension form'!C10 -> 33
B8: रजारोखीकरणसाठी एकूण सेवा | D8: =D7 -> 33
B9: शेवटचे वेतन | D9: ='Pension form'!D38 -> 67100 | E9: =D9*'Pension form'!C13/100 -> 33550 | G9: https://gramvikaseseva.com
B10: मूळ निवृत्तीवेतन | D10: ='Pension form'!F50 -> 33550
B11: दरमहा निवृत्तीवेतन | D11: =D10+E11 -> 50325 | E11: =D10*'Pension form'!C13% -> 16775
E12: =E11-F11 -> 16775
B13: अंशराशीकरण मूल्य | D13: =D9*40% -> 26840
B14: अंशराशीकरण दर | D14: ='Pension form'!D53 -> 8.371
B15: अंशराशीकरण रक्कम | D15: ='Namuna b'!B66 -> 1348066
B16: रजा रोखिकरण | D16: ='BTR26'!N34 -> 1006500
B17: भविष्य निर्वाह रक्कम
B18: उपदान | D18: =D9*'Pension form'!C10/2 -> 1107150 | E18: ='Pension form'!F52 -> 1107150
B19: रजा रोखिकरण | D19: ='BTR26'!N54 -> 1006500
B20: बदली प्रवास भत्ता | D20: ='Transfer Ta'!U35 -> 33770
B21: एकूण | D21: =D18+D16+D15+D19+D20+D17 -> 4501986 | E21: =D9 -> 67100
B27: दरमहा निवृतीवेतन | C27: दरमहा निवृतीवेतन=निव्वृत्तीवेतन+महागाई भत्ता-निवृतीवेतन विक्री
H28: 0.4
E30: रजा रोखिकरण | H30: (अंतिम वेतन +महागाई+ग्रे वे * शिल्लक रजा /30 )
I32: ( सेवा ३३ वर्ष लिमिटेड )
F33: उपदान | G33: अंतिम वेतन * सेवा /२
E38: kutumb nivruti vetan
E39: शेवटचे वेतन *50% | H39: (निवृत्ती वेतन 7 वर्ष पर्यंत
E40: =#REF!*50% -> #REF! | H40: मयात साठी १० वर्ष
H41: १० वर्ष ननंतर ३० टक्के दर ne

Sheet Checklist
A1: ¨ÉÚ³ý ºÉä´ÉÉ {ÉÖºiÉEò SÉäEòÊ±Éº]õ | I1: https://gramvikaseseva.com
A2: Eò¨ÉÇSÉÉ­ªÉÉSÉä xÉÉ´É :- ------------------------------------------------ {ÉnùxÉÉ¨É -------------------
A3: .+.Gò | B3: SÉäEòÊ±Éº]õ Ê´É¹ÉªÉ | C3: ½þÉäªÉ / xÉÉ½þÒ | D3: .+.Gò | E3: SÉäEòÊ±Éº]õ Ê´É¹ÉªÉ | F3: ½þÉäªÉ / xÉÉ½þÒ | I3: 👉१. पहिल्या पानावरील जन्मतारखेची नोंद पडताळणी केली आहे का
A4: 1 | B4: {ÉÊ½þ±ªÉÉ {ÉÉxÉÉ´É®úÒ±É VÉx¨ÉiÉÉ®úJÉäSÉÒ xÉÉånùù {Éb÷iÉÉ³ýhÉÒ Eäò±ÉÒ +É½äþ EòÉªÉ | D4: 21 | E4: ´ÉÉ½þxÉ SÉÉ±ÉEò +ºÉ±ªÉÉºÉ ´ÉÉ½þxÉ {É®ú´ÉÉxÉÉ /xÉÖiÉxÉÒEò®úhÉ xÉÉånù +É½äþ EòÉªÉ | I4: 👉२. पहिल्या पानावरील नोंद दर पाच वर्षांनी तपासणी करुन प्रमाणित करणे.
A5: 2 | B5: {ÉÆSÉ´ÉÉÌ¹ÉEò {Éb÷iÉÉ³ýhÉÒ |É¨ÉÉÊhÉiÉ +É½äþ EòÉªÉ | D5: 22 | E5: ºÉä´ÉÉ|É´Éä¶ÉÉäkÉ®ú {ÉÊ®úIÉÉ =kÉÒhÉÇ xÉÉånù +É½äþ EòÉªÉ | I5: 👉३. वैद्यकिय दाखल्याची नोंद.
A6: 3 | B6: ´ÉÉÌ¹ÉEò ºÉä´ÉÉ {Éb÷iÉÉ³ýhÉÒ +É½äþ EòÉªÉ | D6: 23 | E6: Ê´É½þÒiÉ ¨ÉÖnùiÉÒiÉ {ÉÊ®úIÉÉ =kÉÒhÉÇ xÉºÉ±ªÉÉºÉ ´ÉäiÉxÉ´ÉÉføÒ ¤ÉÆnù Eò®úhªÉÉiÉ +É±ªÉÉ EòÉªÉ | I6: 👉४. जात पडताळणी बाबतची नोंद.
A7: 4 | B7: ´ÉènùªÉEòÒªÉ iÉ{ÉÉºÉhÉÒ xÉÉånù/nùÉJÉ±ÉÉ +É½äþ EòÉªÉ | D7: 24 | E7: ±ÉäJÉÉ {ÉÊ®úIÉÉ =kÉÒhÉÇ xÉÉånù +É½þ EòÉªÉ | I7: 👉५. भविष्य निर्वाह निधी खाते क्रमांक नोंद.
A8: 5 | B8: परिविक्षाधीन कालावधी ¨ÉÆVÉÚ®úÒSÉÒ xÉÉånù +É½äþ EòÉªÉ | D8: 25 | E8: +Ê¦ÉªÉÉÆÊjÉEòÒ ºÉÆ´ÉMÉÉÇSÉÒ ´ªÉÉ´ÉºÉÉÊªÉEò {ÉÊ®úIÉÉ =iÉÂÒhÉÇ xÉÉånù +É½äþ EòÉªÉ | I8: 👉६. निवृत्तीवेतन नामनिर्देशनाची नोंद.
A9: 6 | B9: ¦É ÊxÉ ÊxÉ ªÉÉäVÉxÉÉ ±ÉÉMÉÚ EòÒ +Æ¶ÉnùÉxÉ ÊxÉ´ÉÞkÉÒ ´ÉäiÉxÉ ªÉÉäVÉxÉÉ ±ÉÉMÉÚ +É½äþ | D9: 26 | E9: ´ÉªÉÉSÉÒ 45 ´É¹Éæ {ÉÚhÉÇ ZÉÉ±Éä±ÉÒ +ºÉ±ªÉÉxÉä ´É®úÒ±É 20,22 ´É 23SÉÒ {ÉÊ®úIÉÉ ºÉÖ]õ xÉÉånù +É½äþ EòÉªÉ | I9: 👉७. मृत्यू अन सेवानिवृत्ती उपदान नामनिर्देशनाची नोंद.
A10: 7 | B10: ¦É ÊxÉ ÊxÉ Gò¨ÉÉÆEòÉSÉÒ xÉÉånù +É½äþ EòÉªÉ | D10: 27 | E10: ¨É®úÉ`öÒ / Ë½þnùÒ ¦ÉÉ¹ÉÉ {ÉÊ®úIÉÉ ºÉÖ]õ xÉÉånù PÉähªÉÉiÉ +É±ÉÒ EòÉªÉ | I10: 👉८. गटविमा योजणेच्या सदस्यत्वाची नोंद.
A11: 8 | B11: +¶ÉÆnùÉxÉ ÊxÉ´ÉÞkÉÒ ´ÉäiÉxÉ ªÉÉäVÉxÉäSÉÒ (dcps) xÉÉån +É½äþ EòÉªÉù | D11: 28 | E11: nùIÉiÉÉ ®úÉävÉ ¨ÉÆVÉÚ®úÒSÉÒ xÉÉånù +É½äþ EòÉªÉ | I11: 👉९. गटविमा योजणेच्या वर्गणीची नोंद. ( सुरुवातीची व वेळोवेळी बदलानुसार )
A12: 9 | B12: MÉ]õ ¤ÉSÉiÉ VÉÉäb÷Ê´É¨ÉÉ (GSLIS)ªÉÉäVÉxÉäSÉä ºÉ¦ÉÉºÉnù +É½äþ EòÉªÉ +ºÉ±ªÉÉºÉ {ÉÊ®úSÉªÉ Gò¨ÉÉÆEò xÉÉånù +É½äþ EòÉªÉ | D12: 29 | E12: ´ÉäiÉxÉ +ÉªÉÉäMÉÉxÉÖºÉÉ®ú ´ÉäiÉxÉÊxÉÎ¶SÉiÉÒ ´ÉSÉxÉ{ÉjÉ Ê´ÉEò±{É Ê´É´É®úhÉ ´É xÉÉånù PÉäiÉ±ÉÒ EòÉªÉ | I12: 👉१०. गटविमा नामनिर्देशनाची नोंद.
A13: 10 | B13: ¶ÉÉºÉEòÒªÉ MÉ]õ Ê´É¨ÉÉ (GIS)ªÉÉäVÉxÉäSÉä ºÉ¦ÉÉºÉnùú ZÉÉ±ªÉÉSÉÒ xÉÉånù +É½äþ EòÉªÉ | D13: 30 | E13: ´ÉäiÉxÉÊxÉÎ¶SÉiÉÒ {Éb÷iÉÉ³ýhÉÒ +lÉÇ Ê´É¦ÉÉMÉÉEòbÚ÷xÉ iÉ{ÉÉºÉhÉÒ xÉÉånù +É½äþ EòÉªÉ SÉÉèlÉÉ +ÉªÉÉäMÉ / {ÉÉSÉ´ÉÉ +ÉªÉÉäMÉ / ºÉ½þÉ´ÉÉ ´ÉäiÉxÉ +ÉªÉÉäMÉ | I13: 👉११. विहीत संगणक अर्हता परिक्षा उत्तीर्ण नोंद.
A14: 11 | B14: ¶ÉÉºÉEòÒªÉ MÉ]õ Ê´É¨ÉÉ ´ÉMÉÇhÉÒ ´ÉÉføÒ´É nù®úÉSÉÒ xÉÉånù PÉäiÉ±ÉÒ +É½äþ EòÉªÉ 2003 ´É 2010 | D14: 31 | E14: {ÉnùÉäzÉiÉÒ +ºÉ±ªÉÉºÉ Ê´ÉEò±{ÉÉSÉÒ xÉÉånù ´É ´ÉäiÉxÉÊxÉÎ¶SÉiÉÒ xÉÉånù Eäò±ÉÒ +É½äþ EòÉªÉ | I14: 👉१२. सेवांतर्गत प्रशिक्षणाची नोंद.
A15: 12 | B15: MÉ]õ ¤ÉSÉiÉ VÉÉäb÷Ê´É¨ÉÉ ªÉÉäVÉxÉÉ / ¶ÉÉºÉEòÒªÉ MÉ]õ Ê´É¨ÉÉ / ¦É ÊxÉ ÊxÉ / ÊxÉ´ÉÞkÉÒ ´ÉäiÉxÉ ªÉÉäVÉxÉÉ / Eöò]ÖÆõ¤É ÊxÉ´ÉÞkÉÒ ´ÉäiÉxÉ / +ÆÆ¶ÉnùÉxÉ ÊxÉ´ÉÞkÉÒ ´ÉäiÉxÉ xÉÉ¨ÉÊxÉnæù¶ÉxÉ ¦É®ú±Éä +É½äþiÉ EòÉªÉ | D15: 32 | E15: .+É·ÉÉÊºÉiÉ |ÉMÉiÉÒ ªÉÉäVÉxÉÉ 12 ´É¹Éæ / 24 ´É¹Éæ {ÉÉjÉ +ºÉ±ªÉÉºÉ ±ÉÉ¦É Ênù±ÉÉ +É½äþ EòÉªÉ | I15: 👉१३. वार्षिक वेतनवाढ नोंद.
... A21: 18 | B21: VÉÉiÉÒSÉÒ xÉÉånù ´É VÉÉiÉ ´ÉèvÉiÉÉ |É¨ÉÉhÉ{ÉjÉ PÉäiÉ±Éä +É½äþ EòÉªÉ | D21: 38 | E21: EòÉªÉÉÇ±ÉªÉ |É¨ÉÖJÉÉSªÉÉ º´ÉÉIÉ­ªÉÉ {ÉÚhÉÇ +É½äþiÉ EòÉªÉ | I21: 👉१९. स्वग्राम घोषनापत्राची नोंद.
A22: 19 | B22: EòÉªÉ¨É{ÉhÉÉSÉä ¡òÉªÉnäù |É¨ÉÉhÉ{ÉjÉ |ÉÉ{iÉ Eò¯ûxÉ ºÉä´ÉÉ {ÉÖºiÉEò xÉÉänù PÉäiÉ±ÉÒ EòÉªÉ | D22: 39 | I22: 👉२०. वेतन आयोगानुसार वेतन निश्चिती नोंद व पडताळणीची नोंद.
A23: 20 | B23: PÉ®ú¤ÉÉÆvÉhÉÒ +OÉÒ¨É (ÊVÉ{É)/ MÉÞ½þ ÊxÉ¨ÉÉÇhÉ ºÉÆºlÉÉ PÉ®ú ¤ÉÉÆvÉhÉÒ +OÉÒ¨É (¶ÉÉºÉxÉ) xÉÉånù +É½äþ EòÉªÉ ´É ´ÉºÉÖ±ÉÒ ºÉÖ¯û +É½äþ EòÉªÉ | E23: JÉÉiÉä |É¨ÉÖJÉÉSÉÒ º´ÉÉIÉ®úÒ | I23: 👉२१. पदोन्नती / आश्वासित प्रगती योजना / एकस्तर यामुळे झालेल्या वेतन निश्चितीची नोंद.
I24: 👉२२. पुरस्कार प तद्नुषंगिक अनुज्ञेय लाभाच्या नोंदी.
I25: 👉२३. अर्जीत / परावर्तीत रजा दर सहामाही जमा केल्याची नोंद.
I26: 👉२४. घेतलेल्या रजेच्या आदेशाची नोंद व रजा लेख्यात खर्ची घातल्याची नोंद.
I27: 👉२५. रजा प्रवास सवलत नोंद.
I28: 👉२६. दुय्यम सेवापुस्तक दिल्याबाबतची नोंद.
I29: 👉२७. मानीव दिनांक / वेतन समानीकरण संबंधीच्या नोंदी.
I30: 👉२८. सेवा पडताळणीची नोंद.
I31: 👉२९. जनगणना रजा नोंद.
I32: 👉३०. सुट्टीच्या कालावधीत प्रशिक्षण झालेल्या रजा नोंदी.
I33: 👉३१)हिंदी व मराठी भाषा पास झाल्याची वा सुट मिळाल्याची नोंद

Sheet DA Rates
B1: Month | C1: 5th | D1: 6th | E1: 7th | H1: Month | J1: Month | AL1: 36500 | AM1: 40600 | AN1: 44400 | AO1: 51900 | AP1: 59200 | AQ1: 59200 | AR1: 72100 | AS1: 72100 | AT1: 72100 | AU1: 91400 | AW1: 91400 | AX1: 96900 | AY1: 107900 | AZ1: 114000 | BA1: 138000 | BB1: 160300
A2: 37987 | B2: जानेवारी-2004 | C2: 61 | J2: 37987
A3: 38018 | B3: फेब्रुवारी-2004 | C3: 61 | J3: 38018
A4: 38047 | B4: मार्च-2004 | C4: 61 | J4: 38047
A5: 38078 | B5: एप्रिल-2004 | C5: 61 | J5: 38078
A6: 38108 | B6: मे-2004 | C6: 61 | J6: 38108
A7: 38139 | B7: जून-2004 | C7: 61 | J7: 38139
A8: 38169 | B8: जुलै-2004 | C8: 61 | J8: 38169
A9: 38200 | B9: ऑगस्ट-2004 | C9: 11 | J9: 38200
A10: 38231 | B10: सप्टेंबर-2004 | C10: 11 | J10: 38231
A11: 38261 | B11: ऑक्टोबर-2004 | C11: 11 | J11: 38261
A12: 38292 | B12: नोव्हेंबर-2004 | C12: 11 | J12: 38292
A13: 38322 | B13: डिसेंबर-2004 | C13: 11 | J13: 38322
... A25: 38687 | B25: डिसेंबर-2005 | C25: 21 | J25: 38687
A26: 38718 | B26: जानेवारी-2006 | C26: 21 | D26: 0 | F26: 0.08 | H26: जानेवारी-2006 | J26: 38718 | AL26: 37600 | AM26: 41800 | AN26: 45700 | AO26: 53500 | AP26: 61000 | AQ26: 61000 | AR26: 74300 | AS26: 74300 | AT26: 74300 | AU26: 94100 | AW26: 94100 | AX26: 99800 | AY26: 111100 | AZ26: 117400 | BA26: 142100 | BB26: 165100
A27: 38749 | B27: फेब्रुवारी-2006 | C27: 21 | D27: 0 | F27: 0.08 | H27: फेब्रुवारी-2006 | J27: 38749 | AL27: 38700 | AM27: 43100 | AN27: 47100 | AO27: 55100 | AP27: 62800 | AQ27: 62800 | AR27: 76500 | AS27: 76500 | AT27: 76500 | AU27: 96900 | AW27: 96900 | AX27: 102800 | AY27: 114400 | AZ27: 120900 | BA27: 146400 | BB27: 170100
A28: 38777 | B28: मार्च-2006 | C28: 21 | D28: 0 | F28: 0.08 | H28: मार्च-2006 | J28: 38777 | AL28: 39900 | AM28: 44400 | AN28: 48500 | AO28: 56800 | AP28: 64700 | AQ28: 64700 | AR28: 78800 | AS28: 78800 | AT28: 78800 | AU28: 99800 | AW28: 99800 | AX28: 105900 | AY28: 117800 | AZ28: 124500 | BA28: 150800 | BB28: 175200
A29: 38808 | B29: एप्रिल-2006 | C29: 21 | D29: 0 | F29: 0.08 | H29: एप्रिल-2006 | J29: 38808 | AL29: 41100 | AM29: 45700 | AN29: 50000 | AO29: 58500 | AP29: 66600 | AQ29: 66600 | AR29: 81200 | AS29: 81200 | AT29: 81200 | AU29: 102800 | AW29: 102800 | AX29: 109100 | AY29: 121300 | AZ29: 128200 | BA29: 155300 | BB29: 180500
A30: 38838 | B30: मे-2006 | C30: 24 | D30: 0 | F30: 0.08 | H30: मे-2006 | J30: 38838 | AL30: 42300 | AM30: 47100 | AN30: 51500 | AO30: 60300 | AP30: 68600 | AQ30: 68600 | AR30: 83600 | AS30: 83600 | AT30: 83600 | AU30: 105900 | AW30: 105900 | AX30: 112400 | AY30: 124900 | AZ30: 132000 | BA30: 160000 | BB30: 185900
A31: 38869 | B31: जून-2006 | C31: 24 | D31: 0 | F31: 0.08 | H31: जून-2006 | J31: 38869 | AL31: 43600 | AM31: 48500 | AN31: 53000 | AO31: 62100 | AP31: 70700 | AQ31: 70700 | AR31: 86100 | AS31: 86100 | AT31: 86100 | AU31: 109100 | AW31: 109100 | AX31: 115800 | AY31: 128600 | AZ31: 136000 | BA31: 164800 | BB31: 191500
A32: 38899 | B32: जुलै-2006 | C32: 24 | D32: 2 | F32: 0.08 | H32: जुलै-2006 | J32: 38899 | AL32: 44900 | AM32: 50000 | AN32: 54600 | AO32: 64000 | AP32: 72800 | AQ32: 72800 | AR32: 88700 | AS32: 88700 | AT32: 88700 | AU32: 112400 | AW32: 112400 | AX32: 119300 | AY32: 132500 | AZ32: 140100 | BA32: 169700 | BB32: 197200
A33: 38930 | B33: ऑगस्ट-2006 | C33: 24 | D33: 2 | F33: 0.08 | H33: ऑगस्ट-2006 | J33: 38930 | AL33: 46200 | AM33: 51500 | AN33: 56200 | AO33: 65900 | AP33: 75000 | AQ33: 75000 | AR33: 91400 | AS33: 91400 | AT33: 91400 | AU33: 115800 | AW33: 115800 | AX33: 122900 | AY33: 136500 | AZ33: 144300 | BA33: 174800 | BB33: 203100
A34: 38961 | B34: सप्टेंबर-2006 | C34: 29 | D34: 2 | F34: 0.08 | H34: सप्टेंबर-2006 | J34: 38961 | AL34: 47600 | AM34: 53000 | AN34: 57900 | AO34: 67900 | AP34: 77300 | AQ34: 77300 | AR34: 94100 | AS34: 94100 | AT34: 94100 | AU34: 119300 | AW34: 119300 | AX34: 126600 | AY34: 140600 | AZ34: 148600 | BA34: 180000 | BB34: 209200
A35: 38991 | B35: ऑक्टोबर-2006 | C35: 29 | D35: 2 | F35: 0.08 | H35: ऑक्टोबर-2006 | J35: 38991 | AL35: 49000 | AM35: 54600 | AN35: 59600 | AO35: 69900 | AP35: 79600 | AQ35: 79600 | AR35: 96900 | AS35: 96900 | AT35: 96900 | AU35: 122900 | AW35: 122900 | AX35: 130400 | AY35: 144800 | AZ35: 153100 | BA35: 185400
A36: 39022 | B36: नोव्हेंबर-2006 | C36: 29 | D36: 2 | F36: 0.08 | H36: नोव्हेंबर-2006 | J36: 39022 | M36: जानेवारी","फेब्रुवारी","मार्च","एप्रिल","मे","जून","जुलै","ऑगस्ट","सप्टेंबर","ऑक्टोबर","नोव्हेंबर","डिसेंबर | AL36: 50500 | AM36: 56200 | AN36: 61400 | AO36: 72000 | AP36: 82000 | AQ36: 82000 | AR36: 99800 | AS36: 99800 | AT36: 99800 | AU36: 126600 | AW36: 126600 | AX36: 134300 | AY36: 149100 | AZ36: 157700 | BA36: 191000
A37: 39052 | B37: डिसेंबर-2006 | C37: 29 | D37: 2 | F37: 0.08 | H37: डिसेंबर-2006 | J37: 39052 | AL37: 52000 | AM37: 57900 | AN37: 63200 | AO37: 74200 | AP37: 84500 | AQ37: 84500 | AR37: 102800 | AS37: 102800 | AT37: 102800 | AU37: 130400 | AW37: 130400 | AX37: 138300 | AY37: 153600 | AZ37: 162400 | BA37: 196700
A38: 39083 | B38: जानेवारी-2007 | C38: 29 | D38: 6 | F38: 0.08 | H38: जानेवारी-2007 | J38: 39083 | M38: जानेवारी | AL38: 53600 | AM38: 59600 | AN38: 65100 | AO38: 76400 | AP38: 87000 | AQ38: 87000 | AR38: 105900 | AS38: 105900 | AT38: 105900 | AU38: 134300 | AW38: 134300 | AX38: 142400 | AY38: 158200 | AZ38: 167300 | BA38: 202600
A39: 39114 | B39: फेब्रुवारी-2007 | C39: 29 | D39: 6 | F39: 0.08 | H39: फेब्रुवारी-2007 | J39: 39114 | M39: फेब्रुवारी | AL39: 55200 | AM39: 61400 | AN39: 67100 | AO39: 78700 | AP39: 89600 | AQ39: 89600 | AR39: 109100 | AS39: 109100 | AT39: 109100 | AU39: 138300 | AW39: 138300 | AX39: 146700 | AY39: 162900 | AZ39: 172300 | BA39: 208700
A40: 39142 | B40: मार्च-2007 | C40: 29 | D40: 6 | F40: 0.08 | H40: मार्च-2007 | J40: 39142 | M40: मार्च | AL40: 56900 | AM40: 63200 | AN40: 69100 | AO40: 81100 | AP40: 92300 | AQ40: 92300 | AR40: 112400 | AS40: 112400 | AT40: 112400 | AU40: 142400 | AW40: 142400 | AX40: 151100 | AY40: 167800 | AZ40: 177500
A41: 39173 | B41: एप्रिल-2007 | C41: 35 | D41: 6 | F41: 0.08 | H41: एप्रिल-2007 | J41: 39173 | M41: एप्रिल
A42: 39203 | B42: मे-2007 | C42: 35 | D42: 6 | F42: 0.08 | H42: मे-2007 | J42: 39203 | M42: मे | P42: Year | Q42: Opening Balance
A43: 39234 | B43: जून-2007 | C43: 35 | D43: 6 | F43: 0.08 | H43: जून-2007 | J43: 39234 | M43: जून | P43: 2006-07 | Q43: 8
A44: 39264 | B44: जुलै-2007 | C44: 41 | D44: 9 | F44: 0.08 | H44: जुलै-2007 | J44: 39264 | M44: जुलै | P44: 2007-08 | Q44: 8
A45: 39295 | B45: ऑगस्ट-2007 | C45: 41 | D45: 9 | F45: 0.08 | H45: ऑगस्ट-2007 | J45: 39295 | M45: ऑगस्ट | P45: 2008-09 | Q45: 8
A46: 39326 | B46: सप्टेंबर-2007 | C46: 41 | D46: 9 | F46: 0.08 | H46: सप्टेंबर-2007 | J46: 39326 | M46: सप्टेंबर | P46: 2009-10 | Q46: 8
A47: 39356 | B47: ऑक्टोबर-2007 | C47: 41 | D47: 9 | F47: 0.08 | H47: ऑक्टोबर-2007 | J47: 39356 | M47: ऑक्टोबर | P47: 2010-11 | Q47: 8
A48: 39387 | B48: नोव्हेंबर-2007 | C48: 41 | D48: 9 | F48: 0.08 | H48: नोव्हेंबर-2007 | J48: 39387 | M48: नोव्हेंबर | P48: 2011-12 | Q48: 8
A49: 39417 | B49: डिसेंबर-2007 | C49: 41 | D49: 9 | F49: 0.08 | H49: डिसेंबर-2007 | J49: 39417 | M49: डिसेंबर | P49: 2012-13 | Q49: 8
A50: 39448 | B50: जानेवारी-2008 | C50: 47 | D50: 12 | F50: 0.08 | H50: जानेवारी-2008 | J50: 39448 | P50: 2013-14 | Q50: 8
A51: 39479 | B51: फेब्रुवारी-2008 | C51: 47 | D51: 12 | F51: 0.08 | H51: फेब्रुवारी-2008 | J51: 39479 | P51: 2014-15 | Q51: 8
...

Sheet Pension form
A1: सेवानिवत्तीचा प्रस्ताव तयार करण्यासाठीची माहिती | H1: / /20 | K1: जिल्हा परिषद | CA1: बीड
A2: नांव | B2: श्री | C2: सोमनाथ चटर्जी | D2: vÉ¨ÉÇ | E2: हिंदु | F2: https://gramvikaseseva.com | K2: जाक्र/ | M2: अस्था /आरआर/ /20 | CA2: अक्कलकुवा | DP2: हुद्दा | DT2: तालुका | DW2: विभाग | DY2: तालुका कार्यालय | EA2: विभाग प्रमुख | EC2: तालुका प्रमुख
A3: वडीलांचे/ पतीचे नांव | AZ3: Select your GP | BD3: Select your GP | CA3: अहमदनगर | CB3: अकोला | CC3: अमरावती | CD3: उस्मानाबाद | CE3: औरंगाबाद | CF3: कोल्हापूर | CG3: गडचिरोली | CH3: गोंदिया | CI3: चंद्रपूर | CJ3: जालना | CK3: जळगाव | CL3: ठाणे | CM3: नाशिक | CN3: धुळे | CO3: नागपूर | CP3: नंदुरबार | CQ3: नांदेड | CR3: परभणी | CS3: पालघर | CT3: पुणे | CU3: बीड | CV3: बुलाडाणा | CW3: भंडारा | CX3: मुंबई शहर | CY3: मुंबई उपनगर | CZ3: यवतमाळ | DA3: रायगड | DB3: रत्नागिरी | DC3: लातूर | DD3: वर्धा | DE3: वाशीम | DF3: सातारा | DG3: सिंधुदुर्ग | DH3: सोलापूर | DI3: सांगली | DJ3: हिंगोली | DP3: अतिरिक्त मुख्य कार्यकारी अधिकारी | DT3: अमळनेर | DW3: सामान्य प्रशासन विभाग | DY3: पंचायत समिती | EA3: अतिरिक्त मुख्य कार्यकारी अधिकारी | EC3: गट विकास अधिकारी वर्ग 1
A4: पदनाम | C4: कक्ष अधिकारी | D4: जिल्हा | E4: नाशिक | F4: तालुका | G4: कळवण | K4: =IF($K$2="","",($K$2&""&$G$5&"/"&IF($G$5="","",$M$2&""))) -> जाक्र/ सामन्य प्रशासन/अस्था /आरआर/ /20 | AF4: श्री | AJ4: 1 | AK4: S-1 | AL4: 15000-47600 | AZ4: Pay Band 1 (4440-7440) - 1300 | BA4: 1300 | BB4: 1300 | BD4: Pay Band 1 (4440-7440) - 1300 | BE4: 1300 | BF4: 1300 | BH4: S-1 | BI4: 1 | BJ4: S-1 | BK4: 4440-7440 | BL4: 1300 | BT4: BC | BU4: A | BV4: BC | BW4: A | BZ4: 1 | CA4: 2 | CB4: 3 | CC4: 4 | CD4: 5 | CE4: 6 | CF4: 7 | CG4: 8 | CH4: 9 | CI4: 10 | CJ4: 11 | CK4: 12 | CL4: 13 | CM4: 14 | CN4: 15 | CO4: 16 | CP4: 17 | CQ4: 18 | CR4: 19 | CS4: 20 | CT4: 21 | CU4: 22 | CV4: 23 | CW4: 24 | CX4: 25 | CY4: 26 | CZ4: 27 | DA4: 28 | DB4: 29 | DC4: 30 | DD4: 31 | DE4: 32 | DF4: 33 | DG4: 34 | DH4: 35 | DI4: 36 | DJ4: 37 | DK4: 38 | DL4: 39 | DM4: 40 | DN4: 41 | DP4: उप मुख्य कार्यकारी अधिकारी (साप्र) | DT4: बोदवड | DW4: ग्रामपंचायत विभाग | DY4: एकात्मिक बाल विकास योजना | EA4: उप मुख्य कार्यकारी अधिकारी (साप्र) | EC4: बाल विकास प्रकल्प अधिकारी | EG4: नियत वयोमानानुसार | EJ4: 37987
A5: कार्यालयाचे नांव | C5: पंचायत समिती | F5: विभाग | G5: सामन्य प्रशासन | H5: =C5 -> पंचायत समिती | K5: =IF($C$5="","",($C$5&" "&IF($B$17=" ","",$D$5&""&IF($D$4="","",$G$4&" "&IF($D$4="","",$E$4))))) -> पंचायत समिती कळवण नाशिक | AF5: श्रीमती | AG5: स्वत: | AJ5: 2 | AK5: S-2 | AL5: 15300-48700 | AZ5: Pay Band 1 (4440-7440) - 1400 | BA5: 1400 | BB5: 1400 | BD5: Pay Band 1 (4440-7440) - 1400 | BE5: 1400 | BF5: 1400 | BH5: S-2 | BI5: 2 | BJ5: S-1 | BK5: 4440-7440 | BL5: 1400 | BN5: 1 | BO5: Z class city/others (10%) | BP5: 1 | BQ5: 8 | BR5: 10 | BT5: =IF((#REF!<7440)*AND(#REF!>0)*AND(#REF!<4200)*AND(#REF!>0),400,0) -> #REF! | BU5: =IF((#REF!<7440)*AND(#REF!>0)*AND(#REF!<4200)*AND(#REF!>0),600,0) -> #REF! | BV5: =IF((CN10>0)*AND(CN10<3),900,0) -> 0 | BW5: =IF((CN10>0)*AND(CN10<3),1350,0) -> 0 | BZ5: 1 | CA5: अहमदनगर | CB5: अकोला | CC5: अमरावती | CD5: उस्मानाबाद | CE5: औरंगाबाद | CF5: कोल्हापूर - करवीर | CG5: गडचिरोली | CH5: गोंदिया | CI5: चंद्रपूर | CJ5: जालना | CK5: अमळनेर | CL5: ठाणे | CM5: नाशिक | CN5: धुळे | CO5: नागपूर | CP5: नंदुरबार | CQ5: नांदेड | CR5: परभणी | CS5: पालघर | CT5: पुणे शहर | CU5: बीड | CV5: बुलाडाणा | CW5: भंडारा | CY5: अंधेरी | CZ5: यवतमाळ | DA5: अलिबाग | DB5: रत्नागिरी | DC5: लातूर | DD5: वर्धा | DE5: वाशीम | DF5: सातारा | DG5: ओरस | DH5: उत्तर सोलापूर | DI5: शिराळा ( महाल ) | DJ5: हिंगोली | DP5: गट विकास अधिकारी वर्ग 1 | DT5: भुसावळ | DW5: बांधकाम विभाग | DY5: तालुका वैदयकीय अधिकारी कार्यालय | EA5: उप मुख्य कार्यकारी अधिकारी (ग्रापं) | EC5: तालुका वैदयकीय अधिकारी | EG5: º´ÉäSUôÉ ºÉä´ÉÉÊxÉ´ÉÞkÉÒ | EJ5: 38018
A6: जन्मतारिख | C6: 29000 | AF6: कुमारी | AG6: पती | AJ6: 3 | AK6: S-3 | AL6: 16600-52400 | AZ6: Pay Band 1 (4440-7440) - 1600 | BA6: 1600 | BB6: 1600 | BD6: Pay Band 1 (4440-7440) - 1600 | BE6: 1600 | BF6: 1600 | BH6: S-3 | BI6: 3 | BJ6: S-1 | BK6: 4440-7440 | BL6: 1600 | BN6: 2 | BO6: Y class city (20%) | BP6: 2 | BQ6: 16 | BR6: 20 | BT6: =IF((#REF!<7440)*AND(#REF!>0)*AND(#REF!<4200)*AND(#REF!>0),400,0) -> #REF! | BU6: =IF((#REF!<7440)*AND(#REF!>0)*AND(#REF!<4200)*AND(#REF!>0),600,0) -> #REF! | BV6: =IF((CN10>2)*AND(CN10<9),1800,0) -> 0 | BW6: =IF((CN10>2)*AND(CN10<9),3600,0) -> 0 | BX6: श्री | BZ6: 2 | CA6: कोपरगाव | CB6: तेल्हारा | CC6: धारणी ( मेळघाट ) | CD6: भूम ( महाल ) | CE6: सोयगाव | CF6: शाहुवाडी | CG6: कुरखेडा | CH6: तिरोडा | CI6: चिमूर | CJ6: भोकरदन | CK6: भडगाव | CL6: शहापूर | CM6: सटाणा ( बागलाण ) | CN6: शिरपूर | CO6: नरखेड | CP6: अक्कलकुवा | CQ6: किनवट | CR6: जिंतूर | CS6: तलासरी | CT6: जुन्नर | CU6: गेवराई | CV6: जळगाव ( जामोद ) | CW6: तुमसर | CY6: बोरीवली | CZ6: बाभूळगाव | DA6: पनवेल | DB6: मंडणगड | DC6: अहमदपूर | DD6: आष्टी | DE6: कारंजा | DF6: खंडाळा | DG6: देवगड | DH6: करमाळा | DI6: विटा ( खानापूर ) | DJ6: कळमनुरी | DP6: सहायक गट विकास अधिकारी | DT6: भडगांव | DW6: जलसंधारण विभाग ल पा (सिंचन) | DY6: बांधकाम उपविभाग | EA6: उपमुख्य कार्यकारी अधिकारी पा व स्व | EC6: उप अभियंता बा.ध | EG6: ¨ÉªÉiÉ | EJ6: 38047
A7: नेाकरी सुरु दि | C7: 38047 | D7: से नि सुरु दि | AF7: सौ | AG7: पत्नी | AJ7: 4 | AK7: S-4 | AL7: 17100-54000 | AZ7: Pay Band 1 (4440-7440) - 1650 | BA7: 1650 | BB7: 1650 | BD7: Pay Band 1 (4440-7440) - 1650 | BE7: 1650 | BF7: 1650 | BH7: S-4 | BI7: 4 | BJ7: S-1 | BK7: 4440-7440 | BL7: 1650 | BN7: 3 | BO7: X class city (30%) | BP7: 3 | BQ7: 24 | BR7: 30 | BT7: =IF((#REF!>=4200)*(#REF!<5400)*AND(#REF!>0),800,0) -> #REF! | BU7: =IF((#REF!>=4200)*(#REF!<5400)*AND(#REF!>0),1600,0) -> #REF! | BV7: =IF((CN10>8)*AND(CN10<20),3600,0) -> 0 | BW7: =IF((CN10>8)*AND(CN10<20),7200,0) -> 0 | BX7: श्रीमती | BZ7: 3 | CA7: अकोले | CB7: आकोट | CC7: चिखलदरा | CD7: कळंब | CE7: कन्नड | CF7: पन्हाळा | CG7: आरमोरी | CH7: गोरेगाव | CI7: नागभीड | CJ7: जाफराबाद | CK7: भुसावळ | CL7: भिवंडी | CM7: सुरगाणा | CN7: शिंदखेडा | CO7: सावनेर | CP7: धडगाव ( अक्राणी ) | CQ7: हदगाव | CR7: पाथरी | CS7: जव्हार | CT7: आंबेगाव ( घोडेगाव ) | CU7: आष्टी | CV7: संग्रामपूर | CW7: मोहोडी | CY7: कुर्ला | CZ7: नेर | DA7: कर्जत | DB7: दापोली | DC7: औसा | DD7: कारंजा | DE7: मालेगाव | DF7: महाबळेश्वर | DG7: वैभववाडी | DH7: माढा | DI7: आटपाडी | DJ7: बसमत | DP7: कक्ष अधिकारी | DT7: चाळीसगांव | DW7: ग्रामीण पाणी पुरवठा विभाग | DY7: लघुसिंचन उपविभाग | EA7: जिल्हा आरोग्य अधिकारी | EC7: उप अभियंता लघु सिं | EJ7: 38078
A8: सेवानिवत्त दि | C8: =IF(C2="","",IF(ISERROR(C6+S9),"Error in data entry",IF(DAY(C6)=1,EOMONTH(C6,S9-1),EOMONTH(C6,S9)))) -> 50191 | D8: =IF(C2="","",C8+1) -> 50192 | E8: ºÉä´ÉÉÊxÉ´ÉÞkÉÒ |ÉEòÉ®ú | F8: नियत वयोमानानुसार | I8: Mar-19 | J8: =TEXT(B8,"mmm-yy") -> Jan-00 | K8: =IF(C8="","",VLOOKUP(I8,'DA Rates'!A2:F565,5,)) -> #N/A | M8: सेवा निव.त्त दिनांक | N8: सेवा निवत्‍त सुरु दि | AG8: मुलगा | AJ8: 5 | AK8: S-4 | AL8: 17100-54000 | AZ8: Pay Band 1 (4440-7440) - 1700 | BA8: 1700 | BB8: 1700 | BD8: Pay Band 1 (4440-7440) - 1700 | BE8: 1700 | BF8: 1700 | BH8: S-4 | BI8: 5 | BJ8: S-1 | BK8: 4440-7440 | BL8: 1700 | BN8: 4 | BO8: No HRA | BP8: 4 | BQ8: 0 | BR8: 0 | BT8: =IF((#REF!>=5400)*AND(#REF!>0),1600,0) -> #REF! | BU8: =IF((#REF!>=5400)*AND(#REF!>0),3200,0) -> #REF! | BX8: कुमारी | BZ8: 4 | CA8: संगमनेर | CB8: बाळापुर | CC8: अचलपूर | CD8: परांडा | CE8: सिल्लोड | CF8: हातकणंगले | CG8: धानोरा | CH8: आमगाव | CI8: ब्रम्हपुरी | CJ8: अंबड | CK8: बोदवड | CL8: कल्याण | CM8: कळवण | CN8: साक्री | CO8: पारशिवनी | CP8: तळोदा | CQ8: भोकर | CR8: गंगाखेड | CS8: मोखाडा | CT8: वडगाव ( मावळ ) | CU8: पाटोदा | CV8: मलकापूर | CW8: साकोली | CZ8: दारव्हा | DA8: उरण | DB8: खेड | DC8: निलंगा | DD8: आर्वी | DE8: मंगरूळपीर | DF8: वाई | DG8: मालवण | DH8: बार्शी | DI8: इस्लामपूर ( वाळवा ) | DJ8: औंढा नागनाथ | DP8: कार्यालयिन अधीक्षक | DT8: चोपडा | DW8: आरोग्य विभाग | DY8: ग्रामीण पाणी पुरवठा उपविभाग | EA8: कार्यकारी अभियंता | EC8: उप अभियंता ग्रा पा पु | EJ8: 38108
A9: एकुण सेवा | C9: =IF(C2="","",DATEDIF(C7,C8,"y")&" years, "&DATEDIF(C7,C8,"ym")&" months, "&DATEDIF(C7,C8,"md")&" days") -> 33 years, 2 months, 30 days | D9: एकुण सेवा वर्षात | E9: =IF(C2="","",DATEDIF(C7,C8,"y")) -> 33 | F9: =IF(D2="","",DATEDIF(C7,C8,"ym")) -> 2 | G9: =IF(E2="","",DATEDIF(C7,C8,"md")) -> 30 | I9: 43525 | J9: =J8 -> Jan-00 | K9: =IF(J9="","",VLOOKUP(J9,'DA Rates'!A2:F565,5,)) -> #N/A | L9: =IF(I9="","",VLOOKUP(I9,'DA Rates'!A2:F565,5,)) -> 12 | M9: =IF(ISERROR(C6+S9),"Error in data entry",IF(DAY(C6)=1,EOMONTH(C6,S9-1),EOMONTH(C6,S9))) -> 50191 | N9: =M9+1 -> 50192 | S9: =58*12 -> 696 | AG9: मुलगी | AJ9: 6 | AK9: S-5 | AL9: 18000-56900 | AZ9: Pay Band 1 (5200-20200) - 1800 | BA9: 1800 | BB9: 1800 | BD9: Pay Band 1 (5200-20200) - 1800 | BE9: 1800 | BF9: 1800 | BH9: S-5 | BI9: 6 | BJ9: PB-1 | BK9: 5200-20200 | BL9: 1800 | BN9: 5 | BT9: =IF((#REF!=0),1600,0) -> #REF! | BU9: =IF((#REF!=0),3200,0) -> #REF! | BZ9: 5 | CA9: श्रीरामपूर | CB9: मुर्तीजापूर | CC9: चांदूर बाजार | CD9: तुळजापूर | CE9: वैजापूर | CF9: गगनबावळा | CG9: चामोशी | CH9: देवरी | CI9: वरोडा | CJ9: परतूर | CK9: चाळीसगाव | CL9: मुरबाड | CM9: मालेगाव | CO9: रामटेक | CP9: शहादा | CQ9: कंधार | CR9: सोनपेठ | CS9: डहाणू | CT9: राजगुरुनगर ( खेड ) | CU9: माजलगाव | CV9: नांदुरा | CW9: पौनी | CZ9: कळंब | DA9: खालापूर | DB9: गुहागर | DC9: उदगीर | DD9: सेलू | DE9: रिसोड | DF9: फलटण | DG9: कणकवली | DH9: माळशिरस | DI9: तासगाव | DJ9: सेनगाव | DP9: विस्तार अधिकारी सांख्यिकी | DT9: एरंडोल | DW9: महिला व बाल कल्याण विभाग | DY9: प्राथमिक आरोग्य केंद्र | EA9: जिल्हा पशुसंवर्धन अधिकारी | EC9: वैदयकीय अधिकारी | EJ9: 38139
A10: Limtied 33 | C10: =IF(C2="","",IF(E9>=33,33,IF(D10<3,N21,IF((D10<9),E9+0.5,E9+1)))) -> 33 | J10: ='Pension form'!J7 -> 0 | N10: 0 | AG10: आई | AJ10: 7 | AK10: S-6 | AL10: 19900-63200 | AZ10: Pay Band 1 (5200-20200) - 1900 | BA10: 1900 | BB10: 1900 | BD10: Pay Band 1 (5200-20200) - 1900 | BE10: 1900 | BF10: 1900 | BH10: S-6 | BI10: 7 | BJ10: PB-1 | BK10: 5200-20200 | BL10: 1900 | BN10: 6 | BP10: =IF((#REF!="Z class city/others (10%)"),1,IF((#REF!="Y class city (20%)"),2,IF((#REF!="X class city (30%)"),3,IF((#REF!="No HRA"),4,0)))) -> #REF! | BR10: NO | BS10: NO | BV10: =SUM(BT5:BT9) -> #REF! | BW10: =SUM(BV5:BV9) -> 0 | BZ10: 6 | CA10: राहुरी | CB10: पातुर | CC10: मोर्शी | CD10: उमरगा | CE10: खुलताबाद | CF10: शिरोळ | CG10: एटापल्ली | CH10: सालकेसा | CI10: भद्रावती | CJ10: मंठा | CK10: चोपडा | CL10: उल्हासनगर | CM10: पेठ | CO10: काटोल | CP10: नावापुर | CQ10: बिलोली | CR10: मानवत | CS10: वाडा | CT10: शिरूर | CU10: केज | CV10: शेगाव | CW10: लाखांदूर लाखनी | CZ10: राळेगाव | DA10: पेन | DB10: चिपळूण | DC10: देवणी | DD10: देवळी | DE10: मानोरा | DF10: मेढे ( जावळी ) | DG10: वेंगुर्ला | DH10: पंढरपूर | DI10: कवठेमहांकाळ | DP10: लघुलेखक उच्चश्रेणी | DT10: धरणगांव | DW10: पशुसंवर्धन विभाग | DY10: पशुवैद्यकीय दवाखाना | EA10: जिल्हा महिला व बाल विकास अधिकारी | EC10: पशुधन विकास अधिकारी | EJ10: 38169
A11: वेतनश्रेणी 6 वा वेतन | C11: Pay Band 2 (9300-34800) - 4500 | D11: =IF(C11="","",VLOOKUP(C11,BD4:BK44,5,0)) -> S-16 | AG11: वडील | AJ11: 8 | AK11: S-7 | AL11: 21700-69100 | AZ11: Pay Band 1 (5200-20200) - 2000 | BA11: 2000 | BB11: 2000 | BD11: Pay Band 1 (5200-20200) - 2000 | BE11: 2000 | BF11: 2000 | BH11: S-7 | BI11: 8 | BJ11: PB-1 | BK11: 5200-20200 | BL11: 2000 | BN11: 7 | BR11: YES | BS11: YES (TA @ Double rate) | BV11: =SUM(BU5:BU9) -> #REF! | BW11: =SUM(BW5:BW9) -> 0 | BZ11: 7 | CA11: नेवासे | CB11: बार्शीटाकळी | CC11: वरुड | CD11: वाशी | CE11: गंगापूर | CF11: कागल | CG11: अहेरी | CH11: अर्जुनी मोरगाव | CI11: सिंधेवाही | CJ11: घनसावंगी | CK11: धरणगाव | CL11: अंबरनाथ | CM11: दिंडोरी | CO11: कळमेश्वर | CQ11: मुखेड | CR11: सेलू | CS11: वसई | CT11: पौड ( मुळशी ) | CU11: अंबेजोगाई | CV11: मोताळा | CZ11: दिग्रस | DA11: पाली ( सुधागड ) | DB11: संगमेश्वर | DC11: शिरूर अनंतपाळ | DD11: हिंगणघाट | DF11: कोरेगाव | DG11: सावंतवाडी | DH11: मोहोळ | DI11: जत | DP11: लघुलेखक निम्नश्रेणी | DT11: मुक्ताईनगर | DW11: समाज कल्याण विभाग | DY11: जिल्हा परिषद | EA11: मुख्य लेखा व वित्त अधिकारी | EC11: कृषि अधिकारी | EJ11: 38200
B12: =C8 -> 50191 | D12: GSLI No | I12: =IF($C$6="","",($C$5&" "&$G$4&" "&IF($G$4="","",$F$4&""&IF($C$5="","",$G$4&" "&IF($E$4="","",$D$4&""&IF($E$4="","",$E$4)))))) -> पंचायत समिती कळवण तालुका कळवण जिल्हा नाशिक | AJ12: 9 | AK12: S-8 | AL12: 25500-81100 | AZ12: Pay Band 1 (5200-20200) - 2400 | BA12: 2400 | BB12: 2400 | BD12: Pay Band 1 (5200-20200) - 2400 | BE12: 2400 | BF12: 2400 | BH12: S-8 | BI12: 9 | BJ12: PB-1 | BK12: 5200-20200 | BL12: 2400 | BN12: 8 | BS12: =IF((CD11="NO"),1,IF((CD11="YES (TA @ Double rate)"),2)) -> FALSE | BZ12: 8 | CA12: पारनेर | CC12: अंजनगाव - सुर्जी | CD12: लोहारा | CE12: पैठण | CF12: राधानगरी | CG12: सिरोंचा | CH12: सडक - अर्जुनी | CI12: मूल | CJ12: बदनापूर | CK12: एरंडोल | CM12: चांदवड | CO12: कामठी | CQ12: देगलूर | CR12: पालम | CS12: विक्रमगड | CT12: हवेली | CU12: वडवणी | CV12: खामगाव | CZ12: घाटंजी | DA12: मुरुड | DB12: लांजा | DC12: जळकोट | DD12: समुद्रपूर | DF12: खटाव ( वळूज ) | DG12: दोडामार्ग | DH12: सांगोला | DI12: मिरज | DP12: लघुटंकलेखक | DT12: जळगांव | DW12: अर्थ विभाग | EA12: जिल्हा मोहीम अधिकारी | EC12: गट शिक्षणाधिकारी | EJ12: 38231
A13: महागाईभत्ता दर निवडा | B13: 45717 | C13: =IFERROR(IF(B13="","",VLOOKUP(B13,'DA Rates'!A2:E565,5,)),0) -> 50 | D13: ¦ÉÊ´É¹ªÉ ÊxÉ´ÉÉÇ½þ ÊxÉvÉÒ Gò¨ÉÉÆEò | E13: 9282 | I13: =IF($K$1="","",$K$1&","&""&$E$4) -> जिल्हा परिषद ,नाशिक | AJ13: 10 | AK13: S-9 | AL13: 26400-83600 | AZ13: Pay Band 1 (5200-20200) - 2500 | BA13: 2500 | BB13: 2500 | BD13: Pay Band 1 (5200-20200) - 2500 | BE13: 2500 | BF13: 2500 | BH13: S-9 | BI13: 10 | BJ13: PB-1 | BK13: 5200-20200 | BL13: 2500 | BN13: 9 | BS13: Other cities | BU13: 1 | BV13: =IF((BS12=2)*AND(BV10<500),1000,IF((BS12=2)*AND(BV10>499),(BV10*2),IF((BS12=1),BV10))) -> #REF! | BW13: =IF((BS12=2)*AND(BW10<1125),2250,IF((BS12=2)*AND(BW10>1124),(BW10*2),IF((BS12=1),BW10))) -> FALSE | BZ13: 9 | CA13: शेवगाव | CC13: भातकुली | CE13: फुलंब्री | CF13: गारगोटी ( भुदरगड ) | CG13: भामरागड | CI13: राजुरा | CK13: जळगाव | CM13: निफाड | CO13: मौदा | CQ13: मुदखेड | CR13: पूर्णा | CT13: दौंड | CU13: शिरूर ( कासार ) | CV13: चिखली | CZ13: पांढरकवडा ( केळापूर ) | DA13: रोहा | DB13: राजापूर | DC13: रेणापूर | DF13: दहिवडी ( माण ) | DH13: मंगळवेढा | DI13: पलूस | DP13: वरिष्ट सहायक लिपिकवर्गीय | DT13: जामनेर | DW13: कृषि विभाग | EA13: जिल्हा कृषि अधिकारी | EC13: उप मुख्य कार्यकारी अधिकारी (साप्र) | EJ13: 38261 | EM13: पिवला रंग
C14: =IFERROR(IF(B14="","",VLOOKUP(B14,'DA Rates'!A2:E565,4,)),0) | I14: =IF($C$5="","",($C$2&","&$C$4&" "&IF($G$4="","",$C$5&" "&IF($C$2="","",$D$5&""&IF($D$4="","",$G$4&" "&IF($D$4="","",$E$4)))))) -> सोमनाथ चटर्जी ,कक्ष अधिकारी पंचायत समिती कळवण नाशिक | AJ14: 11 | AK14: S-10 | AL14: 29200-92300 | AZ14: Pay Band 1 (5200-20200) - 2800 | BA14: 2800 | BB14: 2800 | BD14: Pay Band 1 (5200-20200) - 2800 | BE14: 2800 | BF14: 2800 | BH14: S-10 | BI14: 11 | BJ14: PB-1 | BK14: 5200-20200 | BL14: 2800 | BN14: 10 | BS14: Higher TPTA cities (A/A1) | BU14: 2 | BV14: =IF((BS12=2)*AND(BV11<500),1000,IF((BS12=2)*AND(BV11>499),(BV11*2),IF((BS12=1),BV11))) -> #REF! | BW14: =IF((BS12=2)*AND(BW11<1125),2250,IF((BS12=2)*AND(BW11>1124),(BW11*2),IF((BS12=1),BW11))) -> FALSE | BZ14: 10 | CA14: पाथर्डी | CC14: तिवसा | CF14: गडहिंग्लज | CG14: कोरची वडसा | CI14: गोंडपिंपरी | CK14: जामनेर | CM14: नांदगाव | CO14: हिंगणा | CQ14: हिमायतनगर | CT14: वेल्हे | CU14: परळी | CV14: मेहकर | CZ14: मारेगाव | DA14: माणगाव | DC14: चाकूर | DF14: पाटण | DH14: दक्षिण सोलापूर | DI14: कडेगाव | DP14: कनिष्ट सहायक लिपिकवर्गीय | DT14: पाचोरा | DW14: पाणी व स्वच्छता विभाग | EA14: शिक्षणाधिकारी प्राथ | EC14: उप मुख्य कार्यकारी अधिकारी (ग्रापं) | EJ14: 38292 | EM14: Orange
BZ15: 11 | CA15: श्रीगोंदे | CC15: दर्यापूर | CF15: आजरा ( महाल ) | CG15: वडसा देसाईगंज | CI15: बल्लारपूर | CK15: मुक्ताईनगर | CM15: येवले | CO15: नागपूर ग्रामीण ( ३ भाग ) | CQ15: माहूर | CT15: सासवड ( पुरंदर ) | CU15: धारूर | CV15: देऊळगाव राजा | CZ15: वणी | DA15: श्रीवर्धन | DF15: कराड | DH15: अक्कलकोट | EC15: उपमुख्य कार्यकारी अधिकारी पा व स्व | EJ15: 38322
BZ16: 12 | CA16: कर्जत | CC16: नांदगाव ( खंडेश्वर ) | CF16: चंदगड | CG16: मुलचेरा | CI16: पोभूर्णा | CK16: पारोळा | CM16: इगतपुरी | CO16: उमरेड | CQ16: धर्माबाद | CT16: भोर | CV16: सिंदखेड राजा | CZ16: पुसद | DA16: म्हसळा | EJ16: 38353
A17: |ÉEò®úhÉ {ÉÉ`öÊ´ÉhÉÉ®äú EòÉªÉÉÇ±ÉªÉ | B17: पंचायत समिती | C17: |ÉEò®úhÉ {ÉÉ`öÊ´ÉhÉÉ®äú +ÊvÉEòÉ®úÒ | D17: गट विकास अधिकारी वर्ग 1 | H17: =D17 -> गट विकास अधिकारी वर्ग 1 | N17: =DATEDIF(C7,C8,"y")&" years" -> 33 years | O17: =DATEDIF(C7,C8,"ym")&" months" -> 2 months | P17: =DATEDIF(C7,C8,"md") & " days" -> 30 days | AJ17: 12 | AK17: S-11 | AL17: 30100-95100 | AZ17: Pay Band 1 (5200-20200) - 2900 | BA17: 2900 | BB17: 2900 | BD17: Pay Band 1 (5200-20200) - 2900 | BE17: 2900 | BF17: 2900 | BH17: S-11 | BI17: 12 | BJ17: PB-1 | BK17: 5200-20200 | BL17: 2900 | BN17: 11 | BS17: =IF((CD9="Other cities"),1,2) -> 2 | BZ17: 13 | CA17: जामखेड | CC17: चांदूर रेल्वे | CI17: सावली | CK17: पाचोरा | CM17: सिन्नर | CO17: कुही | CQ17: पेठ उमरी | CT17: बारामती | CV17: लोणार | CZ17: महागाव | DA17: महाड | DP17: वाहन चालक | DT17: पारोळा | DW17: जिल्हा ग्रामीण विकास यंत्रणा | EA17: प्रकल्प संचालक | EJ17: 38384
A18: जिल्हास्तर प्रकरण पाठविण्याचे कार्यालय | B18: सामान्य प्रशासन विभाग | C18: उप मुख्य कार्यकारी अधिकारी (साप्र) | D18: =IF($K$1="","",$K$1&","&""&$E$4) -> जिल्हा परिषद ,नाशिक | M18: एकुण सेवा | AG18: बहीण | AJ18: 13 | AK18: S-11 | AL18: 30100-95100 | AZ18: Pay Band 1 (5200-20200) - 3000 | BA18: 3000 | BB18: 3000 | BD18: Pay Band 1 (5200-20200) - 3000 | BE18: 3000 | BF18: 3000 | BH18: S-11 | BI18: 13 | BJ18: PB-1 | BK18: 5200-20200 | BL18: 3000 | BN18: 12 | BZ18: 14 | CA18: राहता | CC18: धामणगाव रेल्वे | CI18: कोरपना | CK18: रावेर | CM18: त्र्यंबकेश्वर | CO18: भिवापूर | CQ18: अर्धापूर | CT18: इंदापूर | CZ18: उमरखेड | DA18: पोलादपूर | DP18: परिचर | DT18: रावेर | DW18: शिक्षण विभाग (प्राथमिक) | EJ18: 38412
M19: =DATEDIF(C7,C8,"y") & " years, " & DATEDIF(C7,C8,"ym") & " months, " & DATEDIF(C7,C8,"md") & " days" -> 33 years, 2 months, 30 days | AG19: भाऊ | AJ19: 14 | AK19: S-12 | AL19: 32000-101600 | AZ19: Pay Band 1 (5200-20200) - 3500 | BA19: 3500 | BB19: 3500 | BD19: Pay Band 1 (5200-20200) - 3500 | BE19: 3500 | BF19: 3500 | BH19: S-12 | BI19: 14 | BJ19: PB-1 | BK19: 5200-20200 | BL19: 3500 | BN19: 13 | BZ19: 15 | CI19: जिवेटी | CK19: यावल | CM19: देवळा | CQ19: लोहा | CZ19: आर्णी | DA19: तळा | DP19: संगणक ऑपरेटर | DT19: यावल | DW19: शिक्षण विभाग (माध्यमिक) | EJ19: 38443
A20: सध्याचा पत्ता | D20: ¨ÉÖ {ÉÉä +b÷É´Énù iÉÉ SÉÉä{Éb÷É | I20: =IF($B$17="","",$B$17&","&""&$G$4) -> पंचायत समिती,कळवण | AJ20: 15 | AK20: S-13 | AL20: 35400-112400 | AZ20: Pay Band 2 (9300-34800) - 4100 | BA20: 4100 | BB20: 4100 | BD20: Pay Band 2 (9300-34800) - 4100 | BE20: 4100 | BF20: 4100 | BH20: S-13 | BI20: 15 | BJ20: PB-2 | BK20: 9300-34800 | BL20: 4100 | BN20: 14 | BZ20: 16 | CQ20: नायगाव ( खैरगाव ) | CZ20: झरी जामणी | DP20: उप मुख्य कार्यकारी अधिकारी (ग्रापं) | EJ20: 38473
A21: सेवानिवत्ती नंतरचा पत्ता | D21: ¨ÉÖ {ÉÉä +b÷É´Énù iÉÉ SÉÉä{Éb÷É | H21: Þ | M21: एकुण सेवा वर्षात | N21: =DATEDIF(C7,M9,"y") -> 33 | R21: y | S21: m | T21: d | AJ21: 16 | AK21: S-13 | AL21: 35400-112400 | AZ21: Pay Band 2 (9300-34800) - 4200 | BA21: 4200 | BB21: 4200 | BD21: Pay Band 2 (9300-34800) - 4200 | BE21: 4200 | BF21: 4200 | BH21: S-13 | BI21: 16 | BJ21: PB-2 | BK21: 9300-34800 | BL21: 4200 | BN21: 15 | BZ21: 17 | DP21: विस्तार अधिकारी ग्रामपंचायत | EJ21: 38504
A22: निवÞत्ती वेतन घ्यावयाचे कार्यालय | M22: Limtied 33 | N22: =IF(N21>=33,33,IF(O21<3,N21,IF((O21<9),N21+0.5,N21+1))) -> 33 | R22: =Q25 -> 24 | S22: =R25 -> 2 | T22: =S25 -> 2 | AJ22: 17 | AK22: S-14 | AL22: 38600-122800 | AZ22: Pay Band 2 (9300-34800) - 4300 | BA22: 4300 | BB22: 4300 | BD22: Pay Band 2 (9300-34800) - 4300 | BE22: 4300 | BF22: 4300 | BH22: S-14 | BI22: 17 | BJ22: PB-2 | BK22: 9300-34800 | BL22: 4300 | BN22: 16 | DP22: विस्तार अधिकारी आयआरडीपी | EJ22: 38534
A23: बॅकेचे नांव व पत्ता | D23: VÉä b÷Ò ºÉÒ ºÉÒ ¤ÉÄEò ¶ÉÉJÉÉ +b÷É´Énù | I23: =IF($D$17="","",$D$17&","&""&$C$5) -> गट विकास अधिकारी वर्ग 1,पंचायत समिती | M23: Actual Service Length | N23: =IF(N22>=20,20,IF(P21<3,P21,IF((P21<9),N22+0.5,N22+1))) -> 20 | O23: Yrs | R23: 2019 | S23: 2 | T23: 28 | AJ23: 18 | AK23: S-15 | AL23: 41800-132300 | AZ23: Pay Band 2 (9300-34800) - 4400 | BA23: 4400 | BB23: 4400 | BD23: Pay Band 2 (9300-34800) - 4400 | BE23: 4400 | BF23: 4400 | BH23: S-15 | BI23: 18 | BJ23: PB-2 | BK23: 9300-34800 | BL23: 4400 | BN23: 17 | BZ23: 18 | DP23: ग्रामविकास अधिकारी | EJ23: 38565
A24: उंची | D24: 5 ¡Öò]õõ 3 <ÆSÉ | R24: 1994 | S24: 12 | T24: 30 | AJ24: 19 | AK24: S-16 | AL24: 44900-142400 | AZ24: Pay Band 2 (9300-34800) - 4500 | BA24: 4500 | BB24: 4500 | BD24: Pay Band 2 (9300-34800) - 4500 | BE24: 4500 | BF24: 4500 | BH24: S-16 | BI24: 19 | BJ24: PB-2 | BK24: 9300-34800 | BL24: 4500 | BN24: 18 | BZ24: 19 | DP24: ग्रामसेवक | EJ24: 38596
A25: ओळख खुण | D25: ½þÉiÉÉSÉä EòÉä{É®úÉ´É®ú EòÉ³ýÉ iÉÒ³ý | Q25: 24 | R25: 2 | S25: 2 | T25: 24 | AJ25: 20 | AK25: S-16 | AL25: 44900-142400 | AZ25: Pay Band 2 (9300-34800) - 4600 | BA25: 4600 | BB25: 4600 | BD25: Pay Band 2 (9300-34800) - 4600 | BE25: 4600 | BF25: 4600 | BH25: S-16 | BI25: 20 | BJ25: PB-2 | BK25: 9300-34800 | BL25: 4600 | BN25: 19 | BZ25: 20 | DP25: कार्यकारी अभियंता | EJ25: 38626
A26: सध्याचा कार्यालय कार्यरत कालावधी | D26: 38176 | E26: ते | F26: =C8 -> 50191 | AJ26: 21 | AK26: S-17 | AL26: 47600-151100 | AZ26: Pay Band 2 (9300-34800) - 4800 | BA26: 4800 | BB26: 4800 | BD26: Pay Band 2 (9300-34800) - 4800 | BE26: 4800 | BF26: 4800 | BH26: S-17 | BI26: 21 | BJ26: PB-2 | BK26: 9300-34800 | BL26: 4800 | CI26: =INDEX(BZ4:DN4,MATCH(E4,BZ3:DN3,0)) -> 14 | DP26: उप कार्यकारी अभियंता | EJ26: 38657
A27: Home Town स्वगह | CH27: 1 | CI27: =IF(ISNA(VLOOKUP(CH27,$BZ$5:$DN$25,$CI$26,FALSE)) = TRUE, "Block not found", VLOOKUP(CH27,$BZ$5:$DN$25,$CI$26,FALSE)) -> नाशिक | DP27: उप मुख्य कार्यकारी अधिकारी (साप्र) | EJ27: 38687
A28: अ क्र | B28: कुटुंब सदस्य | C28: जन्मदिनांक | D28: सदस्य नाते | F28: वय | AJ28: 22 | AK28: S-18 | AL28: 49100-155800 | AZ28: Pay Band 2 (9300-34800) - 4900 | BA28: 4900 | BB28: 4900 | BD28: Pay Band 2 (9300-34800) - 4900 | BE28: 4900 | BF28: 4900 | BH28: S-18 | BI28: 22 | BJ28: PB-2 | BK28: 9300-34800 | BL28: 4900 | CH28: 2 | CI28: =IF(ISNA(VLOOKUP(CH28,$BZ$5:$DN$25,$CI$26,FALSE)) = TRUE, "Block not found", VLOOKUP(CH28,$BZ$5:$DN$25,$CI$26,FALSE)) -> सटाणा ( बागलाण ) | DP28: उप अभियंता | EJ28: 38718
A29: 1 | C29: =C6 -> 29000 | D29: º´ÉiÉ: | F29: =DATEDIF(C29,TODAY(),"Y") & " वर्ष, " & DATEDIF(C29,TODAY(),"YM") & " महिना, " & DATEDIF(C29,TODAY(),"MD") & " दिवस" -> 45 वर्ष, 8 महिना, 22 दिवस | AJ29: 23 | AK29: S-18 | AL29: 49100-155800 | AZ29: Pay Band 2 (9300-34800) - 5000 | BA29: 5000 | BB29: 5000 | BD29: Pay Band 2 (9300-34800) - 5000 | BE29: 5000 | BF29: 5000 | BH29: S-18 | BI29: 23 | BJ29: PB-2 | BK29: 9300-34800 | BL29: 5000 | CH29: 3 | CI29: =IF(ISNA(VLOOKUP(CH29,$BZ$5:$DN$25,$CI$26,FALSE)) = TRUE, "Block not found", VLOOKUP(CH29,$BZ$5:$DN$25,$CI$26,FALSE)) -> सुरगाणा | DP29: सहाययक अभियंता श्रेणी 2 | EJ29: 38749
A30: 2 | C30: 31352 | D30: पत्नी | F30: =DATEDIF(C30,TODAY(),"Y") & " वर्ष, " & DATEDIF(C30,TODAY(),"YM") & " महिना, " & DATEDIF(C30,TODAY(),"MD") & " दिवस" -> 39 वर्ष, 3 महिना, 15 दिवस | AJ30: 24 | AK30: S-19 | AL30: 55100-175100 | AZ30: Pay Band 2 (9300-34800) - 5400 | BA30: 5400 | BB30: 5400 | BD30: Pay Band 3 (15600-39100) - 5000 | BE30: 5000 | BF30: 5000 | BH30: S-19 | BI30: 24 | BJ30: PB-3 | BK30: 15600-39100 | BL30: 5000 | CH30: 4 | CI30: =IF(ISNA(VLOOKUP(CH30,$BZ$5:$DN$25,$CI$26,FALSE)) = TRUE, "Block not found", VLOOKUP(CH30,$BZ$5:$DN$25,$CI$26,FALSE)) -> कळवण | DP30: शाखा अभियंता | EJ30: 38777
A31: 3 | C31: 39245 | D31: मुलगी | F31: =DATEDIF(C31,TODAY(),"Y") & " वर्ष, " & DATEDIF(C31,TODAY(),"YM") & " महिना, " & DATEDIF(C31,TODAY(),"MD") & " दिवस" -> 17 वर्ष, 8 महिना, 4 दिवस | AJ31: 25 | AK31: S-20 | AL31: 56100-177500 | AZ31: Pay Band 3 (15600-39100) - 5000 | BA31: 5000 | BB31: 5000 | BD31: Pay Band 2 (9300-34800) - 5400 | BE31: 5400 | BF31: 5400 | BH31: S-20 | BI31: 25 | BJ31: PB-2 | BK31: 9300-34800 | BL31: 5400 | CH31: 5 | CI31: =IF(ISNA(VLOOKUP(CH31,$BZ$5:$DN$25,$CI$26,FALSE)) = TRUE, "Block not found", VLOOKUP(CH31,$BZ$5:$DN$25,$CI$26,FALSE)) -> मालेगाव | DP31: कनिष्ट अभियंता | EJ31: 38808
A32: 4 | C32: 42445 | D32: मुलगा | F32: =DATEDIF(C32,TODAY(),"Y") & " वर्ष, " & DATEDIF(C32,TODAY(),"YM") & " महिना, " & DATEDIF(C32,TODAY(),"MD") & " दिवस" -> 8 वर्ष, 11 महिना, 0 दिवस | AJ32: 26 | AK32: S-21 | AL32: 57100-180800 | AZ32: Pay Band 3 (15600-39100) - 5400 | BA32: 5400 | BB32: 5400 | BD32: Pay Band 3 (15600-39100) - 5400 | BE32: 5400 | BF32: 5400 | BH32: S-20 | BI32: 26 | BJ32: PB-3 | BK32: 15600-39100 | BL32: 5400 | CH32: 6 | CI32: =IF(ISNA(VLOOKUP(CH32,$BZ$5:$DN$25,$CI$26,FALSE)) = TRUE, "Block not found", VLOOKUP(CH32,$BZ$5:$DN$25,$CI$26,FALSE)) -> पेठ | DP32: स्थापत्त अभियांत्रिकी सहायक | EJ32: 38838
C33: 22255 | D33: आई | F33: =DATEDIF(C33,TODAY(),"Y") & " वर्ष, " & DATEDIF(C33,TODAY(),"YM") & " महिना, " & DATEDIF(C33,TODAY(),"MD") & " दिवस" -> 64 वर्ष, 2 महिना, 11 दिवस | AJ33: 27 | AK33: S-22 | AL33: 60000-190800 | AZ33: Pay Band 3 (15600-39100) - 5500 | BA33: 5500 | BB33: 5500 | BD33: Pay Band 3 (15600-39100) - 5500 | BE33: 5500 | BF33: 5500 | BH33: S-21 | BI33: 27 | BJ33: PB-3 | BK33: 15600-39100 | BL33: 5500 | CH33: 7 | CI33: =IF(ISNA(VLOOKUP(CH33,$BZ$5:$DN$25,$CI$26,FALSE)) = TRUE, "Block not found", VLOOKUP(CH33,$BZ$5:$DN$25,$CI$26,FALSE)) -> दिंडोरी | DP33: मुख्‍य आरेखक | EJ33: 38869
A34: सरासरी अंतिम वेतनासाठीचा कालावधी | C34: पासुन | D34: पर्यत | AJ34: 28 | AK34: S-22 | AL34: 60000-190800 | AZ34: Pay Band 3 (15600-39100) - 5700 | BA34: 5700 | BB34: 5700 | BD34: Pay Band 3 (15600-39100) - 5700 | BE34: 5700 | BF34: 5700 | BH34: S-22 | BI34: 28 | BJ34: PB-3 | BK34: 15600-39100 | BL34: 5700 | CH34: 8 | CI34: =IF(ISNA(VLOOKUP(CH34,$BZ$5:$DN$25,$CI$26,FALSE)) = TRUE, "Block not found", VLOOKUP(CH34,$BZ$5:$DN$25,$CI$26,FALSE)) -> चांदवड | DP34: आरेखक | EJ34: 38899
C35: =EDATE(D35,K35) -> 49918 | D35: =C8 -> 50191 | I35: =EDATE(D35,K35) -> 49918 | K35: -9 | AJ35: 29 | AK35: S-23 | AL35: 67700-208700 | AZ35: Pay Band 3 (15600-39100) - 5800 | BA35: 5800 | BB35: 5800 | BD35: Pay Band 3 (15600-39100) - 5800 | BE35: 5800 | BF35: 5800 | BH35: S-22 | BI35: 29 | BJ35: PB-3 | BK35: 15600-39100 | BL35: 5800 | CH35: 9 | CI35: =IF(ISNA(VLOOKUP(CH35,$BZ$5:$DN$25,$CI$26,FALSE)) = TRUE, "Block not found", VLOOKUP(CH35,$BZ$5:$DN$25,$CI$26,FALSE)) -> निफाड | DP35: कनिष्ट आरेखक | EJ35: 38930
A36: निलंबन कालावधी असल्यास तपशील | D36: पासुन | E36: पर्यत | F36: पर्यत | G36: ÊxÉ®ÆúEò | AJ36: 30 | AK36: S-24 | AL36: 71100-211900 | AZ36: Pay Band 3 (15600-39100) - 6600 | BA36: 6600 | BB36: 6600 | BD36: Pay Band 3 (15600-39100) - 6600 | BE36: 6600 | BF36: 6600 | BH36: S-23 | BI36: 30 | BJ36: PB-3 | BK36: 15600-39100 | BL36: 6600 | CH36: 10 | CI36: =IF(ISNA(VLOOKUP(CH36,$BZ$5:$DN$25,$CI$26,FALSE)) = TRUE, "Block not found", VLOOKUP(CH36,$BZ$5:$DN$25,$CI$26,FALSE)) -> नांदगाव | DP36: अनुरेखक | EJ36: 38961
A37: अंतिम वेतन व श्रेणी वेतन रु | D37: 67100 | E37: 0 | F37: =D37+E37 -> 67100 | AJ37: 31 | AK37: S-25 | AL37: 78800-209200 | AZ37: Pay Band 3 (15600-39100) - 6900 | BA37: 6900 | BB37: 6900 | BD37: Pay Band 3 (15600-39100) - 6900 | BE37: 6900 | BF37: 6900 | BH37: S-24 | BI37: 31 | BJ37: PB-3 | BK37: 15600-39100 | BL37: 6900 | CH37: 11 | CI37: =IF(ISNA(VLOOKUP(CH37,$BZ$5:$DN$25,$CI$26,FALSE)) = TRUE, "Block not found", VLOOKUP(CH37,$BZ$5:$DN$25,$CI$26,FALSE)) -> येवले | DP37: वरिष्ट यांत्रिकी | EJ37: 38991
A38: सरासरी वेतन | D38: =F49/10 -> 67100 | AJ38: 32 | AK38: S-26 | AL38: 82200-211500 | AZ38: Pay Band 3 (15600-39100) - 7600 | BA38: 7600 | BB38: 7600 | BD38: Pay Band 3 (15600-39100) - 7600 | BE38: 7600 | BF38: 7600 | BH38: S-25 | BI38: 32 | BJ38: PB-3 | BK38: 15600-39100 | BL38: 7600 | CH38: 12 | CI38: =IF(ISNA(VLOOKUP(CH38,$BZ$5:$DN$25,$CI$26,FALSE)) = TRUE, "Block not found", VLOOKUP(CH38,$BZ$5:$DN$25,$CI$26,FALSE)) -> इगतपुरी | DP38: कनिष्ट यांत्रिकी | EJ38: 39022
A39: 1 | B39: =IF(D35<(EOMONTH(C35,0)),"",CHOOSE(MONTH(TEXT(EOMONTH(C35,0),"mmm-yyyy")),"जानेवारी","फेब्रुवारी","मार्च","एप्रिल","मे","जून","जुलै","ऑगस्ट","सप्टेंबर","ऑक्टोबर","नोव्हेंबर","डिसेंबर")&"-"&YEAR(TEXT(EOMONTH(C35,0),"mmm-yyyy"))) -> ऑगस्ट-2036 | D39: =F37 -> 67100 | E39: =E37 -> 0 | F39: =D39+E39 -> 67100 | AJ39: 33 | AK39: S-27 | AL39: 118500-214100 | AZ39: Pay Band 3 (15600-39100) - 7900 | BA39: 7900 | BB39: 7900 | BD39: Pay Band 3 (15600-39100) - 7900 | BE39: 7900 | BF39: 7900 | BH39: S-26 | BI39: 33 | BJ39: PB-3 | BK39: 15600-39100 | BL39: 7900 | CH39: 13 | CI39: =IF(ISNA(VLOOKUP(CH39,$BZ$5:$DN$25,$CI$26,FALSE)) = TRUE, "Block not found", VLOOKUP(CH39,$BZ$5:$DN$25,$CI$26,FALSE)) -> सिन्नर | DP39: वीजतंत्री | EJ39: 39052
A40: 2 | B40: =IF(D35<(EOMONTH(C35,1)),"",CHOOSE(MONTH(TEXT(EOMONTH(C35,1),"mmm-yyyy")),"जानेवारी","फेब्रुवारी","मार्च","एप्रिल","मे","जून","जुलै","ऑगस्ट","सप्टेंबर","ऑक्टोबर","नोव्हेंबर","डिसेंबर")&"-"&YEAR(TEXT(EOMONTH(C35,1),"mmm-yyyy"))) -> सप्टेंबर-2036 | D40: =D39 -> 67100 | E40: =E39 -> 0 | F40: =D40+E40 -> 67100 | AJ40: 34 | AK40: S-28 | AL40: 124800-212400 | AZ40: Pay Band 4 (37400-67000) - 8700 | BA40: 8700 | BB40: 8700 | BD40: Pay Band 4 (37400-67000) - 8700 | BE40: 8700 | BF40: 8700 | BH40: S-27 | BI40: 34 | BJ40: PB-4 | BK40: 37400-67000 | BL40: 8700 | CH40: 14 | CI40: =IF(ISNA(VLOOKUP(CH40,$BZ$5:$DN$25,$CI$26,FALSE)) = TRUE, "Block not found", VLOOKUP(CH40,$BZ$5:$DN$25,$CI$26,FALSE)) -> त्र्यंबकेश्वर | DP40: तारतंत्री | EJ40: 39083
...

Sheet Non Drawl letter
T1: ='Pension form'!K4 -> जाक्र/ सामन्य प्रशासन/अस्था /आरआर/ /20
T2: ='Pension form'!K5 -> पंचायत समिती कळवण नाशिक
T3: Ênù:- / /
B4: |ÉÊiÉ,
B5: ¨É | C5: ¶ÉÉJÉÉÊvÉEòÉ®úÒ
C6: VÉ³ýMÉÉÆ´É ÊVÉ±½þÉ ºÉ½þ ºÉÉäºÉÉ VÉ³ýMÉÉÆ´É
C8: Ê´É¹ÉªÉ | E8: ='Pension form'!I14 -> सोमनाथ चटर्जी ,कक्ष अधिकारी पंचायत समिती कळवण नाशिक
E9: ½äþ/½þªÉÉþ ºÉä´ÉÉÊxÉ´ÉÞkÉ ½þÉähÉÉ®ú +ºÉ±ªÉÉxÉä xÉÉ näùªÉ xÉÉ SÉÉèEò¶ÉÒ nùÉJÉ±Éä Ê¨É³ýhÉä ¤ÉÉ¤ÉiÉ
D11: ={É®úÉäCiÉ Ê´É¹ÉªÉÉxÉÖºÉÉ®ú | K11: =E8 -> सोमनाथ चटर्जी ,कक्ष अधिकारी पंचायत समिती कळवण नाशिक
C12: ½äÂ/½þªÉÉþ | E12: ='Pension form'!C8 -> 50191 | J12: ®úÉäVÉÒ ºÉä´ÉÉÊxÉ´ÉÞkÉ ½þÉähÉÉ® +ºÉÚxÉ iªÉÉÆSÉäÊxÉ´ÉÞkÉÒ ´ÉäiÉxÉ |ÉEò®úhÉÒú | AC12: xÉÉnäùªÉ xÉÉ SÉèÉEò¶ÉÒ
C13: nùÉJÉ±ÉÉ +iªÉÉ´É¶ªÉEò +É½ä
C14: =E8 -> सोमनाथ चटर्जी ,कक्ष अधिकारी पंचायत समिती कळवण नाशिक | AE14: ½ªÉÉÆSÉä Eòbä÷ºÉ EòÉ½þÒ
C15: ªÉähÉä ¤ÉÉEòÒ +ºÉ±ªÉÉºÉ nùÉJÉ±ÉÉ ªÉÉ EòÉªÉÉÇ±ÉªÉÉEòbä÷ºÉ {ÉÉ`öÊ´ÉhªÉÉiÉ ªÉÉ´ÉÉ, Ê½þ xÉ©É Ê´ÉxÉÆiÉÒ.
Y17: ='Pension form'!H17 -> गट विकास अधिकारी वर्ग 1
AA18: ='Pension form'!H5 -> पंचायत समिती | AG18: ='Pension form'!G4 -> कळवण | AJ18: ='Pension form'!D5 -> 0
Z19: =Z52 -> तालुका | AD19: =AD52 -> कळवण
C20: |ÉiÉ :-
C21: ¨É | D21: ='Pension form'!C18 -> उप मुख्य कार्यकारी अधिकारी (साप्र) | Q21: ='Pension form'!D18 -> जिल्हा परिषद ,नाशिक
C22: ªÉÉÆxÉÉ ¨ÉÉÊ½þiÉÒºiÉ´É ºÉÊ´ÉxÉªÉ ºÉÉnù®ú
T34: =T1 -> जाक्र/ सामन्य प्रशासन/अस्था /आरआर/ /20
T35: =T2 -> पंचायत समिती कळवण नाशिक
T36: =T3 -> Ênù:- / /
B37: |ÉÊiÉ,
B38: ¨É | C38: +vªÉIÉ
C39: Eò¨ÉÇSÉÉ®úÒ Eò±ªÉÉhÉ ÊxÉvÉÒ VÉ³ýMÉÉÆ´É
C41: Ê´É¹ÉªÉ | E41: ='Pension form'!I14 -> सोमनाथ चटर्जी ,कक्ष अधिकारी पंचायत समिती कळवण नाशिक
E42: ½äþ/½þªÉÉþ ºÉä´ÉÉÊxÉ´ÉÞkÉ ½þÉähÉÉ®ú +ºÉ±ªÉÉxÉä SÉÉèEò¶ÉÒ nùÉJÉ±Éä Ê¨É³ýhÉä ¤ÉÉ¤ÉiÉ
D44: ={É®úÉäCiÉ Ê´É¹ÉªÉÉxÉÖºÉÉ®ú | K44: =E41 -> सोमनाथ चटर्जी ,कक्ष अधिकारी पंचायत समिती कळवण नाशिक
C45: =E12 -> 50191 | F45: ½äþ/½þªÉÉ ®úÉäVÉÒ ºÉä´ÉÉÊxÉ´ÉÞkÉ ½þÉähÉÉ®ú +ºÉÚxÉ iªÉÉÆSÉä ÊxÉ´ÉÞkÉÒ ´ÉäiÉxÉ |ÉEò®úhÉÒ xÉÉ näùªÉ xÉÉ SÉèÉEò¶ÉÒ nùÉJÉ±ÉÉ
C46: +iªÉÉ´É¶ªÉEò +É½ä
C47: =K44 -> सोमनाथ चटर्जी ,कक्ष अधिकारी पंचायत समिती कळवण नाशिक | AF47: ½ªÉÉÆSÉä Eòbä÷ºÉ
C48: EòÉ½þÒ ªÉähÉä ¤ÉÉEòÒ +ºÉ±ªÉÉºÉ nùÉJÉ±ÉÉ ªÉÉ EòÉªÉÉÇ±ÉªÉÉEòbä÷ºÉ {ÉÉ`öÊ´ÉhªÉÉiÉ ªÉÉ´ÉÉ Ê½þ xÉ©É Ê´ÉxÉÆiÉÒ
Y50: =Y17 -> गट विकास अधिकारी वर्ग 1
AA51: =AA18 -> पंचायत समिती | AF51: =AG18 -> कळवण
C52: |ÉiÉ :- | Z52: ='Pension form'!F4 -> तालुका | AD52: ='Pension form'!G4 -> कळवण
C53: ¨É | D53: =D21 -> उप मुख्य कार्यकारी अधिकारी (साप्र) | Q53: =Q21 -> जिल्हा परिषद ,नाशिक
D54: =C22 -> ªÉÉÆxÉÉ ¨ÉÉÊ½þiÉÒºiÉ´É ºÉÊ´ÉxÉªÉ ºÉÉnù®ú
U65: =T1 -> जाक्र/ सामन्य प्रशासन/अस्था /आरआर/ /20
U66: =T2 -> पंचायत समिती कळवण नाशिक
U67: =T3 -> Ênù:- / /
...

Sheet Tapasani Suchi
A1: iÉ{ÉÉºÉhÉÒ ªÉÉnùÒ
A2: (¨É½þÉ®úÉ¹]Åõ xÉÉMÉ®úÒ ºÉä´ÉÉ ºÉä´ÉÉ ÊxÉ´ÉÞkÉÒ ´ÉäiÉxÉ ÊxÉªÉ¨É 1982 ¨ÉvÉÒ±É ÊxÉªÉ¨É Gò 121 iÉä 123 xÉÖºÉÉ®ú )
A3: Eò¨ÉÇSÉÉ­ªÉÉSÉä xÉÉÆ´É | C3: ='Pension form'!C2 -> सोमनाथ चटर्जी
A4: ½ÖþqùÉ | C4: ='Pension form'!C4 -> कक्ष अधिकारी | E4: ='Pension form'!C5 -> पंचायत समिती | H4: ='Pension form'!G4 -> कळवण
A5: ´ÉäiÉxÉ¸ÉähÉÒ | E5: ='Pension form'!C11 -> Pay Band 2 (9300-34800) - 4500 | H5: ='Pension form'!D11 -> S-16
A6: ºÉä´ÉÉ ºÉÖ¯û ÊnùxÉÉÆEò :- | E6: ='Pension form'!C7 -> 38047
A7: ÊxÉ´ÉÞkÉÒ |ÉEòÉ®ú ´É ºÉä´ÉÉÊxÉ´É,kÉÂÒ ÊnùxÉÉÆEò | E7: ='Pension form'!F8 -> नियत वयोमानानुसार | G7: ='Pension form'!C8 -> 50191
H8: ºÉä. {ÉÖ. {ÉÞ¹]õ Gò | I8: xÉºiÉÒ ¨ÉvÉÒ±É {ÉÞ¹]õ Gò
A9: 1) ÊxÉªÉ¨É 121 (1) (B) (BEò) ºÉÆ{ÉÚhÉÇ ºÉä´ÉäSÉÒ {Éb÷iÉÉ³ýhÉÒ |É¨ÉÉhÉ{ÉjÉ
A10: 2) ºÉä´ÉäiÉ |É´Éä¶É Eäò±ªÉÉ{ÉÉºÉÚxÉ ºÉä´ÉÉÊxÉ´ÉÞkÉÒ ½þÉä<Ç{ÉªÉÈiÉ / ¨ÉªÉiÉ ZÉÉ±ªÉÉ{ÉªÉÈiÉ
A11: {ÉÆSÉ´ÉÉÌ¹ÉEò {Éb÷iÉÉ³ýhÉÒ |É¨ÉÉÊhÉiÉ xÉÉånù
A12: 3) ´ÉäiÉxÉ näùªÉEòÉxÉÖºÉÉ®ú ºÉä´ÉäSÉÒ ´ÉÉÌ¹ÉEò {Éb÷iÉÉ³ýhÉÒ |É¨ÉÉÊhÉiÉ xÉÉånù
A13: 4) ¨ÉÉMÉÒ±É nù½þÉ ´É¹ÉÉÇiÉ Ê´ÉÊ´ÉvÉ EòÉªÉÉÇ±ÉªÉÉiÉ / iÉÉ±ÉÖCªÉÉiÉ ºÉä´ÉÉ Eäò±Éä±ÉÒ +ºÉä±É iÉ®ú iªÉÉ EòÉªÉÉÇ±ÉªÉÉSÉä +É´É¶ªÉEò iÉä xÉÉ ½þ®úEòiÉ |É¨ÉÉhÉ{ÉjÉ
A14: 1) EòÉªÉÉÇ±ÉªÉÉSÉä xÉÉÆ´É EòÉ±ÉÉ´ÉvÉÒ
A15: 5) ºÉä´ÉäiÉÒ±É xÉä¨ÉhÉÖEò Ê´É½þÒiÉ ´ÉªÉÉä¨ÉªÉÉÇnäùiÉ ZÉÉ±ÉÒ xÉºÉ±ªÉÉºÉ ´ÉªÉ IÉ¨ÉÉ{ÉhÉÉ¤ÉÉ¤ÉiÉ ºÉÆ¤ÉÆÊvÉiÉ +ÊvÉEòÉ­ªÉÉSÉä IÉ¨ÉÉ{ÉÉ±ÉxÉ |É¨ÉÉhÉ{ÉjÉ
A16: 6) xÉÉ SÉÉèEò¶ÉÒ nùÉJÉ±ÉÉ
A17: 7) xÉÉ näùªÉ nùÉJÉ±É
A18: 8) ¯ûMhÉiÉÉ ÊxÉ´ÉÞkÉÒºÉÉ`öÒ +ºÉ±Éä±Éä ´ÉènùªÉEòÒªÉ |É¨ÉÉhÉ{ÉjÉ
A19: 9) +Æ¶É®úÉ¶ÉÒEò®úhÉÉ¤ÉÉ¤ÉiÉ +É´É¶ªÉEò iÉÉä Ê´É½þÒiÉ xÉ¨ÉÖxªÉÉiÉÒ±É +VÉÇ
A20: 10) º´ÉäSUôÉ ÊxÉ´ÉÞkÉÒ |ÉEò®úhÉ Eò¨ÉÇSÉÉ­ªÉÉxÉä Ênù±Éä±ªÉÉ xÉÉä]õÒºÉÒSÉÉ ÊnùxÉÉÆEò ´É EòÉ±ÉÉ´ÉvÉÒ ºÉä´ÉÉ{ÉÖºiÉEòÉ¨ÉvªÉä xÉÉånù PÉäiÉ±ªÉÉ¤ÉÉ¤ÉiÉ |É¨ÉÉÊhÉiÉ xÉÉånù
... A45: 32) Eò¨ÉÇSÉÉ®úÒ ºÉä´ÉäiÉ +ºÉiÉÉÆxÉÉ ¤Éä{ÉkÉÉ / {É®úÉÆMÉnùÉ ZÉÉ±Éä±ÉÉ +ºÉ±ªÉÉ |ÉEò®úhÉÒ {ÉÉäÊ±ÉºÉÉEòbä÷ |ÉlÉ¨É JÉ¤É®úÒ +½þ´ÉÉ±É (F I R ) nùÉJÉ±É Eäò±ªÉÉSÉÒ |ÉiÉ iÉºÉäSÉ iÉ{ÉÉºÉ Eò¯ûxÉ näùJÉÒ±É ºÉnù®úSÉÒ ´ªÉCiÉÒ +Éfø³ÚýxÉ ªÉäiÉ xÉÉ½þÒ ªÉÉ¤ÉÉ¤ÉiÉ ºÉIÉ¨É {ÉÉä±ÉÒºÉ +ÊvÉEòÉ­ªÉÉSÉÉ nùÉJÉ±ÉÉ
H48: ='Form 42'!K20 -> गट विकास अधिकारी वर्ग 1
G49: ='Form 42'!K21 -> पंचायत समिती | I49: ='Non Drawl letter'!AI117 -> कळवण

Sheet Form 7
C1: xÉ¨ÉÖxÉÉ 7
C2: (¨É½þÉ®úÉ¹]Åõ xÉÉMÉ®úÒ ºÉä´ÉÉ (ÊxÉ´ÉÞkÉÒ´ÉäiÉxÉ) ÊxÉªÉ¨É 1982 ¨ÉvÉÒ±É ÊxÉªÉ¨É 123 (1) {É½þÉ)
C3: ¶ÉÉºÉEòÒªÉ Eò¨ÉÇSÉÉ­ªÉÉÆSªÉÉ ÊxÉ´ÉÞkÉÒ´ÉäiÉxÉÉºÉÆ¤ÉÆvÉÒSÉä EòÉMÉnù{ÉjÉ {ÉÉ`ö´ÉiÉÉÆxÉÉ ±ÉäJÉÉ{ÉÊ®úIÉÉ +ÊvÉEòÉ­ªÉÉ±ÉÉ Ê±É½þÉ´ÉªÉÉSªÉÉ {ÉjÉÉSÉÉ xÉ¨ÉÖxÉÉ
I4: ='Pension form'!K4 -> जाक्र/ सामन्य प्रशासन/अस्था /आरआर/ /20
I5: ='Pension form'!K5 -> पंचायत समिती कळवण नाशिक
I6: ='Non Drawl letter'!T3 -> Ênù:- / /
C7: |ÉÊiÉ,
D8: ¨É | E8: ='Pension form'!C18 -> उप मुख्य कार्यकारी अधिकारी (साप्र)
E9: ='Pension form'!D18 -> जिल्हा परिषद ,नाशिक
D11: Ê´É¹ÉªÉ :- | E11: ='Pension form'!I14 -> सोमनाथ चटर्जी ,कक्ष अधिकारी पंचायत समिती कळवण नाशिक
E12: ½äþ /½þªÉÉþ ºÉä´ÉÉÊxÉ´ÉÞkÉ ½þÉähÉÉ®ú +ºÉ±ªÉÉxÉä ºÉä´ÉÉÊxÉ´ÉÞkÉÂÒ EòÉMÉnù{ÉjÉä ºÉÉnù®ú Eò®úhÉä ¤ÉÉ¤ÉiÉ
C14: ¨É½þÉänùªÉ ,
E15: ='Pension form'!B2 -> श्री | F15: ='Pension form'!I14 -> सोमनाथ चटर्जी ,कक्ष अधिकारी पंचायत समिती कळवण नाशिक
D16: ªÉälÉä EòÉªÉÇ®úiÉ +ºÉÖxÉ iªÉÉÆSªÉÉ ÊxÉ´ÉÞkÉÒ´ÉäiÉxÉÉSÉä EòÉMÉnù{ÉjÉ +É´É¶ªÉEò iªÉÉ {ÉÖføÒ±É EòÉªÉÇ´ÉÉ½þÒºÉÉ`öÒ
D17: {ÉÉ`öÊ´ÉhªÉÉÆiÉ ªÉäiÉ +É½äþiÉ.
D18: 2. ¶ÉÉºÉEòÒªÉ Eò¨ÉÇSÉÉ­ªÉÉSªÉÉ ºÉä´ÉÉ ÊxÉ´ÉÞkÉÒSªÉÉ Ênù´É¶ÉÒ +nùkÉ ®úÉ½þiÉÒ±É +¶ÉÉ +ÉÊhÉ ¨ÉÞiªÉÚ-ÊxÉ-ºÉä´ÉÉÊxÉ´ÉÞkÉÒ
D19: ={ÉnùÉxÉÉSªÉÉ ®úCEò¨ÉäiÉÖxÉ ´ÉºÉÖ±É Eò®úhÉä +É´É¶ªÉEò +ºÉ±Éä±ÉªÉÉ ¶ÉÉºÉEòÒªÉ ªÉähÉä ®úCEò¨ÉÉÆSÉÉ iÉ{É¶ÉÒ±É
D20: JÉÉ±ÉÒ nù¶ÉÇÊ´É±Éä±ÉäÉ +É½äþ
C22: +Gò | D22: iÉ{ÉÊ¶É±É | K22: ®úCEò¨É ¯û
C23: 1 | D23: PÉ®ú¤ÉÉÆvÉhÉÒ +OÉÒ¨ÉÉSÉÒ Ê¶É±±ÉEò ®úCEÂò¨É ºÉ MÉÞ ÊxÉ ºÉ½þ ºÉÆºlÉÉ | K23: ='Pension form'!D56 -> 0
C24: 2 | D24: ®úVÉÉ ´ÉäiÉxÉÉºÉ½þ ´ÉäiÉxÉ ´É ¦ÉkÉä ªÉÉ¤ÉÉ¤ÉiÉSÉÒ +ÊiÉ|ÉnùÉxÉ Eäò±Éä±ÉÒ ®úCEò¨É | K24: 0
C25: 3 | D25: +ÉªÉEò®ú
C26: 4 | D26: ¶ÉÉºÉEòÒªÉ ÊxÉ´ÉÉºÉºlÉÉxÉÉSÉÉ iÉÉ¤ÉÉ PÉäiÉ±ªÉÉ¤Éqù±É ±ÉÉªÉºÉxºÉ ¡òÒSÉÒ lÉEò¤ÉÉEòÒ
C27: 5 | D27: ¶ÉÉºÉEòÒªÉ ÊxÉ´ÉÉºÉºlÉÉxÉ ºÉä´ÉÉÊxÉ´ÉÞkÉÒSªÉÉ ÊnùxÉÉÆEòÉxÉÆiÉ®ú½þÒ BEò ¨ÉÊ½þxªÉÉSªÉÉ
D28: +xÉÖYÉäªÉ EòÉ±ÉÉ´ÉvÉÒEòÊ®úiÉÉ `äö´ÉÚxÉ PÉäiÉ±ªÉÉ¤Éqù±É ±ÉÉªÉºÉxºÉ ¡òÒSÉÒ ®úCEÂò¨É
C29: 6 | D29: +xªÉ EòÉähÉiªÉÉ½þÒ ÊxÉvÉÉÇÊ®úiÉ ªÉähÉä ®úEò¨ÉÉ +ÉÊhÉ iªÉÉÆSÉä º´É¯û{É. | K29: 0
C30: 7 | D30: +ÊxÉvÉÉÇÊ®úiÉ ªÉähÉä ®úEò¨ÉÉ +ºÉ±ªÉÉºÉ iªÉÉÆSªÉÉ ºÉ¨ÉÉªÉÉäVÉxÉÉºÉÉ`öÒ ®úÉäJÉÚxÉ
D31: `äö´É±Éä±ÉÒ ={ÉnùxÉÉSÉÒ ®úCEò¨É.
D32: BEÚòhÉ | K32: =SUM(K23:K31) -> 0
C33: * 3. (+) | D33: =F15 -> सोमनाथ चटर्जी ,कक्ष अधिकारी पंचायत समिती कळवण नाशिक
C34: ªÉÉÆSªÉÉ Ê´É¯ûvnù Ê´É¦ÉÉMÉÒªÉ SÉÉèEò¶ÉÒ |É±ÉÆÊ¤ÉiÉ xÉÉ½þÒ ËEò´ÉÉ iÉÒ Eò®úhªÉÉSÉä ªÉÉäÊVÉ±Éä±Éä xÉÉ½þÒ.
C35: (¤É) | D35: ¸ÉÒ ------------------------------------------------------------------------ ú
C36: ªÉÉÆSªÉÉÊ´É¯ûvnù Ê´É¦ÉÉMÉÒªÉ SÉÉèEò¶ÉÒ |É±ÉÆÊ¤ÉiÉ +É½äþ/ ËEò´ÉÉ iÉÒ Eò®úhªÉÉSÉä ªÉÉäÊVÉ±Éä +É½äþ +ÉÊhÉ <iÉ®ú iÉÉi{ÉÖ®úiÉä ÊxÉ´ÉÞkÉÒ´ÉäiÉxÉ
C37: ÊnùxÉÉÆEò- | E37: / / | G37: {ÉÉºÉÚxÉ | I37: / / | J37: {ÉªÉÇiÉ | K37: ¨ÉÆVÉÚ®ú
C38: Eò®úhªÉÉiÉ +É±Éä +É½äþ.
C39: 4. ªÉÉ {ÉjÉÉºÉÉä¤ÉiÉ {ÉÉ`öÊ´É±Éä±ªÉÉ ºÉ½þ{ÉjÉÉÆSÉÒ ªÉÉnùÒ EÞò{ÉªÉÉ {É½þÉ´ÉÒ.
C40: 5.ªÉÉ {ÉjÉÉSÉÒ EÞò{ÉªÉÉ {ÉÉäSÉ tÉ´ÉÒ +ÉÊhÉ ÊxÉ´ÉÞkÉÒ´ÉäiÉxÉÉSªÉÉ ºÉÆÊ´ÉiÉ®úhÉÉºÉÉ`öÒ ºÉÆ¤ÉÆvÉÒiÉ EòÉä¹ÉÉMÉÉ®ú +ÊvÉEòÉ­ªÉÉÆxÉÉ +É´É¶ªÉEò iªÉÉ
C41: ºÉÚSÉxÉÉ Ênù±ªÉÉ +ºÉ±ªÉÉSÉä ªÉÉ Ê´É¦ÉÉMÉÉ±ÉÉ / EòÉªÉÉÇ±ÉªÉÉ±ÉÉ EÞò{ÉªÉÉ Eò³ý´ÉÉ´Éä.
C42: 6. +É{É±ªÉÉEòbÚ÷xÉ |ÉÉÊvÉEòÉ®ú{ÉjÉ Ê¨É³ýÉ±ªÉÉxÉÆiÉ®ú, ªÉÉ Ê´É¦ÉÉMÉÉEòbÚ÷xÉ, EòÉªÉÉÇ±ÉªÉÉEòbÚ÷xÉ ¨ÉÞiªÉÚ-ÊxÉ-ºÉä´ÉÉÊxÉ´ÉÞkÉÒ ={ÉnùÉxÉ
C43: EòÉføhªÉÉiÉ ªÉä<Ç±É ´É iÉä ºÉÆÊ´ÉiÉ®úÒiÉ Eò®úhªÉÉiÉ ªÉä<Ç±É. ½þÒ ®úCEÂò¨É näùhªÉÉ{ÉÚ´ÉÔ, ´É®úÒ±É {ÉÊ®úSUäônù 2 ¨ÉvªÉä =±±ÉäÊJÉ±Éä±ªÉÉ
...

Sheet Form 5
A1: xÉ¨ÉÖxÉÉ 5
A2: (¨É½þÉ®úÉ¹]Åõ xÉÉMÉ®úÒ ºÉä´ÉÉ (ÊxÉ´ÉÞkÉÒ´ÉäiÉxÉ) ÊxÉªÉ¨É 1982 ¨ÉvÉÒ±É ÊxÉªÉ¨É 121 (1) (ºÉÒ) +ÉÊhÉ 123 (1) {É½þÉ)
A3: ÊxÉ´ÉÞkÉ ½þÉähÉÉ­ªÉÉ ¶ÉÉºÉEòÒªÉ Eò¨ÉÇSÉÉ­ªÉÉEòbÚ÷xÉ iªÉÉSªÉÉ / ÊiÉSªÉÉ ÊxÉ´ÉÞkÉÒ{ÉÚ´ÉÔ +É`ö ¨ÉÊ½þxÉä +ÉvÉÒ EòÉªÉÉÇ±ÉªÉ |É¨ÉÖJÉ ªÉÉÆxÉÒ Ê¨É³ý´ÉÉ´ÉªÉÉSÉÉ iÉ{ÉÊ¶É±É.
A4: 1 | B4: ¶ÉÉºÉEòÒªÉ Eò¨ÉÇSÉÉ­ªÉÉSÉä xÉÉ´É | H4: ='Pension form'!C2 -> सोमनाथ चटर्जी
A5: 2 | B5: (+) VÉx¨É iÉÉ®úÒJÉ | H5: ='Pension form'!C6 -> 29000
B6: (¤É) ÊxÉ´ÉÞkÉÒSÉÉ ÊnùxÉÉÆEò | H6: ='Pension form'!C8 -> 50191
A7: 3 | B7: ®úÉVÉ{ÉÊjÉiÉ ¶ÉÉºÉEòÒªÉ Eò¨ÉÇSÉÉ­ªÉÉxÉä ªÉlÉÉäÊSÉiÉÊ®úiªÉÉ | H7: ºÉÉä¤ÉiÉ VÉÉäb÷±Éä±Éä +É½äþiÉ
B8: ºÉÉIÉÉÆÊEòiÉ Eäò±Éä±ªÉÉ nùÉäxÉ xÉ¨ÉÖxÉÉ ºÉÁÉ
A9: 4 | B9: {ÉixÉÒºÉ½þ ËEò´ÉÉ {ÉiÉÒºÉ½þ * BEòjÉ +ºÉ±Éä±ªÉÉ UôÉªÉÉÊSÉjÉÉSªÉÉ | H9: =H7 -> ºÉÉä¤ÉiÉ VÉÉäb÷±Éä±Éä +É½äþiÉ
B10: {ÉÊ®ú{ÉjÉ +ÉEòÉ®úÉSªÉÉ * iÉÒxÉ |ÉiÉÒ (EòÉªÉÉÇ±ÉªÉ |É¨ÉÖJÉÉÆxÉÒ iªÉÉ
B11: ºÉÉIÉÉÆÊEòiÉ Eäò±Éä±ªÉÉ +ºÉÉ´ªÉÉiÉ)
A12: 5 | B12: ®úÉVÉ{ÉjÉÒiÉ ¶ÉÉºÉEòÒªÉ Eò¨ÉÇSÉÉ­ªÉÉxÉä ªÉlÉÉäÊSÉiÉÊ®úiªÉÉ ºÉÉIÉÉÆÊEòiÉ | H12: =H9 -> ºÉÉä¤ÉiÉ VÉÉäb÷±Éä±Éä +É½äþiÉ
B13: Eäò±Éä±ªÉÉ =ÆSÉÒ ´É ´ÉèªÉCiÉÒEò +Éä³ýJÉÊSÉx½þÉSÉÉ iÉ{É¶ÉÒ±É
B14: nù¶ÉÇÊ´ÉhÉÉ­ªÉÉ nùÉäxÉ ÊSÉ`Âö`ö¬É.
A15: 6 | B15: ºÉvªÉÉSÉÉ {ÉkÉÉ | H15: ='Pension form'!D20 -> ¨ÉÖ {ÉÉä +b÷É´Énù iÉÉ SÉÉä{Éb÷É
A16: 7 | B16: ÊxÉ´ÉþÞkÉÒxÉÆiÉ®úSÉÉ {ÉkÉÉ | H16: ='Pension form'!D21 -> ¨ÉÖ {ÉÉä +b÷É´Énù iÉÉ SÉÉä{Éb÷É
A17: 8 | B17: VÉälÉÚxÉ ÊxÉ´ÉÞkÉÒ´ÉäiÉxÉ PªÉÉ´ÉªÉÉSÉä iªÉÉ ¶ÉÉºÉEòÒªÉ EòÉä¹ÉÉMÉÉ®úÉSÉ | H17: ='Pension form'!D22 -> 0
B18: ËEò´ÉÉ ºÉÉ´ÉÇVÉÊxÉEò IÉäjÉÉiÉÒ±É ¤ÉÄEäòSªÉÉ ¶ÉÉJÉäSÉä xÉÉÆ´É | H18: ='Pension form'!D23 -> VÉä b÷Ò ºÉÒ ºÉÒ ¤ÉÄEò ¶ÉÉJÉÉ +b÷É´Énù
A19: 9 | B19: @ xÉ¨ÉÖxÉÉ 3 ¨ÉvªÉä EÖò]ÖÆõ¤ÉÉSÉÉ iÉ{É¶ÉÒ±É | H19: =H12 -> ºÉÉä¤ÉiÉ VÉÉäb÷±Éä±Éä +É½äþiÉ
B20: Ê`öEòÉhÉ | D20: ='Pension form'!G4 -> कळवण
B21: ÊnùxÉÉÆEò | D21: ='Pension form'!H1 -> / /20 | I21: ='Pension form'!I14 -> सोमनाथ चटर्जी ,कक्ष अधिकारी पंचायत समिती कळवण नाशिक
B24: * º´ÉiÉ:SÉÒ ºÉ½þÒ Eò®úhªÉÉ<iÉ{ÉiÉ ºÉÉIÉ®ú xÉºÉ±Éä±ªÉÉ ´ªÉCiÉÒxÉä |ÉiªÉäEò ÊSÉaöÒ´É®ú b÷É´ªÉÉ ½þÉiÉÉSÉÉ +ÆMÉ`öÉ ´É ¤ÉÉä]õÉSÉä `öºÉä ±ÉÉ´ÉÚxÉ ªÉlÉÉäÊSÉiÉÊ®úiªÉÉ ºÉÉIÉÉÆÊEòiÉ Eäò±Éä±ªÉÉ
B25: nùÉäxÉ ÊSÉaöªÉÉ |ÉºiÉÖiÉ Eò®úÉ´ªÉÉiÉ BJÉÉtÉ ¶ÉÉºÉEòÒªÉ Eò¨ÉÇSÉÉ­ªÉÉºÉ ¶ÉÉ®úÒÊ®úEò +ºÉ¨ÉlÉÇiÉä¨ÉÖ³ä b÷É´ªÉÉ ½þÉiÉÉÆSÉÉ +ÆMÉ`öÉ ´Éý ¤ÉÉä]õÉSÉä `öºÉä näùhÉä ¶ÉCªÉ xÉºÉä±ÉiÉ®ú iªÉÉ±ÉÉ
B26: =VÉ´ªÉÉ ½þÉiÉÉSÉÉ +ÆMÉ`öÉ ´É ¤ÉÉä]ÉSÉä `öºÉä näùiÉÉ ªÉäiÉÒ±É. ¶ÉÉºÉEòÒªÉ Eò¨ÉÇSÉÉ­ªÉÉ±ÉÉ nùÉäx½þÒ½þÒ ½þÉiÉ xÉºÉiÉÒ±É iÉ®ú iªÉÉ±ÉÉ {ÉÉªÉÉSÉä ¤ÉÉä]õÉSÉä `öºÉä näùiÉÉ ªÉäiÉÒ±É +ºÉä `öºÉä
B27: ®úÉVÉ{ÉjÉÒiÉ ¶ÉÉºÉEòÒªÉ Eò¨ÉÇSÉÉ­ªÉÉxÉä ªÉlÉÉäÊSÉiÉÊ®úiªÉÉ ºÉÉIÉÉÆÊEòiÉ Eòä±Éä±Éä +ºÉ±Éä {ÉÉÊ½þVÉäiÉ.
B29: JÉÉ±ÉÒ±É ¤ÉÉ¤ÉiÉÒiÉ ¶ÉÉºÉEòÒªÉ Eò¨ÉÇSÉÉ­ªÉÉxÉä {ÉÊ®ú{ÉjÉ +ÉEòÉ®úÉSªÉÉ ¡òCiÉ iªÉÉSªÉÉ UôÉªÉÉÊSÉjÉÉSªÉÉ nùÉäxÉ |ÉiÉÒ {ÉÉ`öÊ´ÉhÉä +É´É¶ªÉEò +É½äþ.
B30: (BEò) ¶ÉÉºÉEòÒªÉ Eò¨ÉÇSÉÉ­ªÉÉºÉ ¨É½þÉ®úÉ¹]Åõ xÉÉMÉ®úÒ ºÉä´ÉÉ (ÊxÉ´ÉÞkÉÒ´ÉäiÉxÉ) ÊxÉªÉ¨É 1982 ¨ÉvÉÒ±É ÊxÉªÉ¨É 116 ±ÉÉMÉÚ ½þÉäiÉ +ºÉä±É +ÉÊhÉ iÉÉä/iÉÒ +Ê´É´ÉÉÊ½þiÉ ËEò´ÉÉ Ê´ÉvÉÚ®ú
B31: ËEò´ÉÉ Ê´ÉvÉ´ÉÉ +ºÉä±É (nùÉäxÉ) ¶ÉÉºÉEòÒªÉ Eò¨ÉÇSÉÉ­ªÉÉºÉ ¨É½þÉ®úÉ¹]Åõ xÉÉMÉ®úÒ ºÉä´ÉÉ (ÊxÉ´ÉÞkÉÒ´ÉäiÉxÉ) ÊxÉªÉ¨É 1982 ¨ÉvÉÒ±É ÊxÉªÉ¨É 117 ±ÉÉMÉÚ ½þÉäiÉ +ºÉ±ªÉÉºÉ.BJÉÉtÉ
B32: ¶ÉÉºÉEòÒªÉ Eò¨ÉÇSÉÉ­ªÉÉºÉ +É{É±ªÉÉ {ÉixÉÒºÉ½þ ËEò´ÉÉ {ÉiÉÒºÉ½þ EòÉfø±Éä±Éä UôÉªÉÉÊSÉjÉ ºÉÉnù® úEò®úhÉä ¶ÉCªÉ ÚxÉºÉä±É iªÉÉ¤ÉÉ¤ÉiÉÒ±É iªÉÉxÉä ËEò´ÉÉ iÉÒxÉä º´ÉiÉÆjÉ UôÉªÉÉÊSÉjÉ
B33: ºÉÉnù®ú Eò®úÉ´ÉÒiÉ ½þÒ UôÉªÉÉÊSÉjÉä EòÉªÉÉÇ±ÉªÉ |É¨ÉÖJÉÉÆxÉä ºÉÉIÉÉÆÊEòiÉ Eäò±Éä±ÉÒ +ºÉ±ÉÒ {ÉÉÊ½þVÉä.¶ÉCªÉ +ºÉ±ªÉÉºÉ EòÉ½þÒ `ö³ýEò JÉÚhÉÉ ÊEò¨ÉÉxÉ nùÉäxÉ Ê´ÉÊxÉÌnù¹]õ Eò®úÉ´ªÉÉiÉ.
B35: {ÉkªÉÉ¨ÉvªÉä ¨ÉÉMÉÉ½ÚþxÉ EòÉ½þÒ ¤Énù±É ZÉÉ±ªÉÉºÉ iÉÉä EòÉªÉÉÇ±ÉªÉ |É¨ÉÖJÉÉºÉ Eò³ýÊ´É±ÉÉ {ÉÉÊ½þVÉä.
B36: ¶ÉÉºÉEòÒªÉEò¨ÉÇSÉÉ­ªÉÉ±ÉÉ ¨É½þÉ®úÉ¹]Åõ xÉÉMÉ®úÒ ºÉä´ÉÉ (ÊxÉ´ÉÞkÉÒ´ÉäiÉxÉ) ÊxÉªÉ¨É 1982 ¨ÉvÉÒ±É ÊxÉªÉ¨É 116 ±ÉÉMÉÚ ½þÉäiÉ +ºÉä±É iÉälÉäSÉ ¡òCiÉ ±ÉÉMÉÚ +É½äþ.
A37: xÉ¨ÉÖxÉÉ 5 SÉä ºÉ½þ{ÉjÉ.
B38: ='Pension form'!I14 -> सोमनाथ चटर्जी ,कक्ष अधिकारी पंचायत समिती कळवण नाशिक
B39: ªÉÉÆSÉÒ xÉ¨ÉÖxªÉÉSÉÒ ºÉ½þÒ / (ºÉÉIÉ®ú xÉºÉ±ªÉÉºÉ b÷É´ªÉÉ ½þÉiÉÉSÉä ¤ÉÉä]õÉÆSÉä `öºÉä)
A41: 1 | B41: -----------------------------------------
A43: 2 | B43: -----------------------------------------
A45: 3 | B45: -----------------------------------------
C47: |É¨ÉÉÊhÉiÉ Eò®úhªÉÉiÉ ªÉäiÉä EòÒ ´É®úÒ±É xÉ¨ÉÖxÉÉ ºÉ½þÒ ¨ÉÉZªÉÉ ºÉ¨ÉIÉ Eò®úhªÉÉÆiÉ +É±ÉÒ.
B48: Ê`öEòÉhÉ | D48: =D20 -> कळवण
...

Sheet Form 3
A1: xÉ¨ÉÖxÉÉ -- 3
A2: ¨É½þÉ®úÉ¹]Åõ xÉÉMÉ®úÒ ºÉä´ÉÉ (ÊxÉ´ÉÞkÉÒ´ÉäiÉxÉ) ÊxÉªÉ¨É 1982 ¨ÉvÉÒ±É ÊxÉªÉ¨É 116 (14) {É½þÉ)
A3: EÖò]ÖÆõ¤ÉÉSÉÉ iÉ{ÉÊ¶É±É
A4: 1 | B4: ¶ÉÉºÉEòÒªÉ Eò¨ÉÇSÉÉ­ªÉÉSÉä xÉÉ´É | E4: ='Pension form'!C2 -> सोमनाथ चटर्जी
A5: 2 | B5: {ÉnùxÉÉ¨É | E5: ='Pension form'!C4 -> कक्ष अधिकारी
A6: 3 | B6: VÉx¨É iÉÉ®úÒJÉ | E6: ='Pension form'!C6 -> 29000
A7: 4 | B7: ÊxÉ´ÉÞkÉÒSÉÉ ÊnùxÉÉÆEò | E7: ='Pension form'!C8 -> 50191
A8: 5 | B8: ÊxÉªÉÖCiÉÒSÉÉ ÊnùxÉÉÆEò | E8: ='Pension form'!C7 -> 38047
A9: ='Pension form'!G1 -> 0 | B9: ='Pension form'!H1 -> / /20 | C9: ®úÉäVÉÒ ¨ÉÉZªÉÉ EÖò]ÖÆõ¤ÉÉiÉ +ºÉ±Éä±ªÉÉ ºÉnùºªÉÉÆSÉÉ iÉ{ÉÊ¶É±É.
A10: Gò | B10: EÖò]ÖÆõ¤ÉÉiÉÒ±É ºÉnùºªÉÉSÉä xÉÉ´É * | D10: VÉx¨ÉiÉÉ®úÒJÉ | F10: ¶ÉÉºÉEòÒªÉ Eò¨ÉÇSÉÉ ªÉÉ¶ÉÒ +ºÉ±Éä±Éä xÉÉiÉä. | G10: EòÉªÉÉÇ±ÉªÉ |É¨ÉÖJÉÉSÉÒ ºÉ½þÒ | H10: ¶Éä®úÉ
A12: 1 | B12: 2 | D12: 3 | F12: 4 | G12: 5 | H12: 6
A13: 1 | B13: ='Pension form'!B29 -> 0 | D13: ='Pension form'!C29 -> 29000 | F13: ='Pension form'!D29 -> º´ÉiÉ:
A14: 2 | B14: ='Pension form'!B30 -> 0 | D14: ='Pension form'!C30 -> 31352 | F14: ='Pension form'!D30 -> पत्नी
A15: 3 | B15: ='Pension form'!B31 -> 0 | D15: ='Pension form'!C31 -> 39245 | F15: ='Pension form'!D31 -> मुलगी
A16: 4 | B16: ='Pension form'!B32 -> 0 | D16: ='Pension form'!C32 -> 42445 | F16: ='Pension form'!D32 -> मुलगा
A17: 5 | B17: ='Pension form'!B33 -> 0 | D17: ='Pension form'!C33 -> 22255 | F17: ='Pension form'!D33 -> आई
B19: ´É®úÒ±É iÉ{ÉÊ¶É±ÉÉiÉ EòÉähÉiÉÒ½þÒ ¦É®ú {Éb÷±ªÉÉºÉ ËEò´ÉÉ ¡ò®ú¤Énù±É ZÉÉ±ªÉÉºÉ iªÉÉºÉÆ¤ÉÆvÉÒSÉÒ ¨ÉÉÊ½þiÉÒ EòÉªÉÉÇ±ÉªÉ |É¨ÉÖJÉÉºÉ /
A20: ±ÉäJÉÉ{ÉÊ®úIÉÉ +ÊvÉEòÉ­ªÉÉºÉ Eò³ý´ÉÚxÉ ½þÉ iÉ{ÉÊ¶É±É +tªÉÉ´ÉiÉ `äö´ÉhªÉÉSÉÒ ¨ÉÒ ªÉÉ´nùÉ®äú ½þ¨ÉÒ PÉäiÉÉä.
B22: Ê`öEòÉhÉ | C22: ='Form 5'!D20 -> कळवण
B23: ÊnùxÉÉÆEò | C23: ='Form 5'!D21 -> / /20
F24: ='Pension form'!I14 -> सोमनाथ चटर्जी ,कक्ष अधिकारी पंचायत समिती कळवण नाशिक
A27: * ªÉÉ |ÉªÉÉäVÉxÉÉºÉÉ`öÒ “EÖò]ÖÆõ¤É” ªÉÉSÉÉ +lÉÇ ¨É½þÉ®úÉ¹]Åõ xÉÉMÉ®úÒ ºÉä´ÉÉ (ÊxÉ´ÉÞkÉÒ´ÉäiÉxÉ) ÊxÉªÉ¨É 1982 ªÉÉiÉÒ±É ÊxÉªÉ¨É
A28: 116 (16) ªÉÉiÉ ´ªÉÉJªÉÉ Eäò±ªÉÉ|É¨ÉÉhÉä +ºÉ±Éä±Éä “EÖò]ÖÆõ¤É” +ºÉÉ ½þÉäiÉÉä.
A29: Ê]õ{É :- {ÉixÉÒ ´É {ÉiÉÒ ªÉÉ¨ÉvªÉä +xÉÖGò¨Éä xªÉÉªÉiÉ: Ê´É¦ÉCiÉ ZÉÉ±Éä±ªÉÉ {ÉixÉÒSÉÉ ´É {ÉiÉÒSÉÉ ºÉ¨ÉÉ´Éä¶É ½þÉäiÉÉä.
G32: ='Form 5'!J50 -> गट विकास अधिकारी वर्ग 1
F33: ='Form 5'!J51 -> पंचायत समिती | H33: ='Non Drawl letter'!AI117 -> कळवण

Sheet Form 6
A1: xÉ¨ÉÖxÉÉ -- 6
A2: ¨É½þÉ®úÉ¹]Åõ xÉÉMÉ®úÒ ºÉä´ÉÉ (ÊxÉ´ÉÞkÉÒ´ÉäiÉxÉ) ÊxÉªÉ¨É 1982 ¨ÉvÉÒ±É ÊxÉªÉ¨É 120 122 123 (1) ´É (3) +ÉÊhÉ 127 (1) {É½þÉ
A3: ÊxÉ´ÉÞkÉÒ´ÉäiÉxÉ ´É ={ÉnùÉxÉ ªÉÉÆSªÉÉ ÊxÉvÉÉÇ®úhÉÉºÉÉ`öÒ xÉ¨ÉÖxÉÉ.
A4: (nÖùºÉ­ªÉÉ ±ÉäJÉÉ{ÉÊ®úIÉÉ ¨ÉÆb÷³ýÉEòbÚ÷xÉ ®úCEò¨É |ÉnùÉxÉ Eò®úÉ´ÉªÉÉSÉÒ +ºÉ±ªÉÉºÉ nùÉäxÉ |ÉiÉÒ {ÉÉ`ö´ÉÉ´ªÉÉÆiÉ)
A5: ¦ÉÉMÉ BEò
A6: 1 | B6: ¶ÉÉºÉEòÒªÉ Eò¨ÉÇSÉÉ-ªÉÉÆSÉä xÉÉÆ´É | G6: ='Pension form'!C2 -> सोमनाथ चटर्जी
A7: 2 | B7: ´Éb÷Ò±ÉÉÆSÉä xÉÉ´É (¨ÉÊ½þ±ÉÉ Eò¨ÉÇSÉÉ­ªÉÉSÉä ¤ÉÉ¤ÉiÉÒiÉ {ÉiÉÒSÉä xÉÉ´É) | G7: ='Pension form'!C3 -> 0
A8: 3 | B8: VÉx¨É iÉÉ®úÒJÉ | G8: ='Pension form'!C6 -> 29000
A9: 4 | B9: vÉ¨ÉÇ | G9: ='Pension form'!E2:E2 -> हिंदु
A10: 5 | B10: MÉÉÆ´É ¶É½þ®ú ÊVÉ±½þÉ´É®úÉVªÉ nù¶ÉÇÊ´ÉhÉÉ®úÉEòÉªÉ¨É ®úÉ½þhªÉÉSÉÉ {ÉkÉÉ | G10: ='Pension form'!D21 -> ¨ÉÖ {ÉÉä +b÷É´Énù iÉÉ SÉÉä{Éb÷É
A11: 6 | B11: ºÉvªÉÉSÉÒ ËEò´ÉÉ ªÉÉ{ÉÚ´ÉÔSÉÒ ÊxÉªÉÖCiÉÒ ´É +ÉºlÉÉ{ÉxÉäSÉä xÉÉ´É
B12: (BEò) ºlÉÉªÉÒ | G12: ºlÉÉªÉÒ
B13: (nùÉäxÉ) +ºÉ±ªÉÉºÉ ºlÉÉxÉ{ÉzÉ
A14: 7 | B14: ºÉä´ÉÉ ºÉÖ¯û ZÉÉ±ªÉÉSÉÒ iÉÉ®úÒJÉ | G14: ='Pension form'!C7 -> 38047
A15: 8 | B15: ºÉä´ÉÉ ºÉ¨ÉÉ{iÉÒSÉÒ iÉÉ®úÒJÉ | G15: ='Pension form'!C8 -> 50191
A16: 9 | B16: (BEò) ÊxÉ´ÉÞkÉÒ´ÉäiÉxÉ ËEò´ÉÉ ={ÉnùÉxÉ ¨ÉÆVÉÚ®ú Eäò±Éä±ªÉÉ ºÉèÊxÉEòÒ ºÉä´ÉäSÉÉ
B17: BEÖòhÉ EòÉ±ÉÉ´ÉvÉÒ.
